Workbook
Name GHS_Platz1: INDIRECT("Abfallsammler!AG" & Abfallsammler!$B$18+46)
Name GHS_Platz2: INDIRECT("Abfallsammler!AG" & Abfallsammler!$C$18+46)
Name GHS_Platz3: INDIRECT("Abfallsammler!AG" & Abfallsammler!$E$18+46)
Name GHS_Platz4: INDIRECT("Abfallsammler!AG" & Abfallsammler!$G$18+46)

Sheet Abholauftrag
D1: Abholauftrag restentleerte Verpackungen
B4: Anfallstelle / Abfallerzeuger-Nr. | I4: Zurück an Interzero Hotline:
I5: Fax: 02203/9147-1390
I6: dr.stoecker@interzero.de
B8: Firma | H8: Ansprechpartner
B11: Straße | H11: Telefonnummer
B14: PLZ, Ort | H14: Fax
B18: Artikel & Gebindevariante (bitte Auswahl treffen) | I18: UN-Nummer | J18: Anzahl
I19: =IF(ISERROR(VLOOKUP(B19,$H$91:$O$945,7,0)),"",VLOOKUP(B19,$H$91:$O$945,7,0))
I20: =IF(ISERROR(VLOOKUP(B20,$H$91:$O$945,7,0)),"",VLOOKUP(B20,$H$91:$O$945,7,0))
I21: =IF(ISERROR(VLOOKUP(B21,$H$91:$O$945,7,0)),"",VLOOKUP(B21,$H$91:$O$945,7,0))
I22: =IF(ISERROR(VLOOKUP(B22,$H$91:$O$945,7,0)),"",VLOOKUP(B22,$H$91:$O$945,7,0))
I23: =IF(ISERROR(VLOOKUP(B23,$H$91:$O$945,7,0)),"",VLOOKUP(B23,$H$91:$O$945,7,0))
I24: =IF(ISERROR(VLOOKUP(B24,$H$91:$O$945,7,0)),"",VLOOKUP(B24,$H$91:$O$945,7,0))
I25: =IF(ISERROR(VLOOKUP(B25,$H$91:$O$945,7,0)),"",VLOOKUP(B25,$H$91:$O$945,7,0))
I26: =IF(ISERROR(VLOOKUP(B26,$H$91:$O$945,7,0)),"",VLOOKUP(B26,$H$91:$O$945,7,0))
I28: =IF(ISERROR(VLOOKUP(B28,$H$91:$O$945,7,0)),"",VLOOKUP(B28,$H$91:$O$945,7,0))
B30: =IF(COUNTIF(B33:J33,"T")>=1,"£","T") -> T | C30: =IF(B30="T","kein Gefahrgut","Gefahrgut:") -> kein Gefahrgut
B31: 3 | C31: 4 | D31: 4.2 | E31: 4.3 | F31: 5.1 | G31: 5.2 | H31: 6 | I31: 8 | J31: 9
B33: =IF(COUNTIF(U91:U946,Abholauftrag!B31)>=1,"T","£") -> £ | C33: =IF(COUNTIF(U91:U946,Abholauftrag!C31)>=1,"T","£") -> £ | D33: =IF(COUNTIF(U91:U946,Abholauftrag!D31)>=1,"T","£") -> £ | E33: =IF(COUNTIF(U91:U946,Abholauftrag!E31)>=1,"T","£") -> £ | F33: =IF(COUNTIF(U91:U946,Abholauftrag!F31)>=1,"T","£") -> £ | G33: =IF(COUNTIF(U91:U946,Abholauftrag!G31)>=1,"T","£") -> £ | H33: =IF(COUNTIF(U91:U946,Abholauftrag!H31)>=1,"T","£") -> £ | I33: =IF(COUNTIF(U91:U946,Abholauftrag!I31)>=1,"T","£") -> £ | J33: =IF(COUNTIF(U91:U946,Abholauftrag!J31)>=1,"T","£") -> £ | K33: =IF(I38="T","T","£") -> £
B36: GHS01 | C36: GHS02 | D36: GHS03 | E36: GHS05 | F36: GHS06 | G36: GHS07 | H36: GHS08 | I36: GHS09
B38: =IF(COUNTIF(Q91:T946,B36)>=1,"T","£") -> £ | C38: =IF(COUNTIF(Q91:T946,C36)>=1,"T","£") -> £ | D38: =IF(COUNTIF(Q91:T946,D36)>=1,"T","£") -> £ | E38: =IF(COUNTIF(Q91:T946,E36)>=1,"T","£") -> £ | F38: =IF(COUNTIF(Q91:T946,F36)>=1,"T","£") -> £ | G38: =IF(COUNTIF(Q91:T946,G36)>=1,"T","£") -> £ | H38: =IF(COUNTIF(Q91:T946,H36)>=1,"T","£") -> £ | I38: =IF(COUNTIF(Q91:T946,I36)>=1,"T","£") -> £
B40: Bitte beachten Sie:
B41: Sie sind der Abfallerzeuger und daher auch entsprechend verantwortlich für die ordnungsgemäße Übergabe der Abfälle. Interzero ist berechtigt, die Annahme der Abfallstoffe, die nicht gemäß den Interzero Übernahmekriterien übergeben werden, zu verweigern bzw. an den Abfallerzeuger zurückzuführen oder aber einer ordnungsgemäßen Verwertung/Beseitigung zuzuführen und dem Abfallerzeuger diese Dienstleistung in Rechnung zu stellen.
B42: Bitte melden Sie die Entsorgung mit entsprechendem Vorlauf an.
B43: Abholungen erfolgen binnen 10 Werktagen. Den genauen Termin der Abholung stimmen Sie bitte mit Ihrem benannten Entsorgungspartner ab.
B44: In der Regel erfolgt die Übernahme der bereitgestellten Behälter in loser Form oder aber entsprechend den Vorgaben Ihres benannten Entsorgungspartners. Sollten Sie spezielle Wünsche zu einem Sammelbhälter/-system haben, ist dies bitte direkt mit dem benannten Entsorgungspartner abzustimmen. Die dafür eventuell anfallenden Mehrkosten sind von Ihnen zu tragen.
B45: Die Gebinde müssen restentleert sein, d.h. pinsel-/spachtelrein, riesel-/tropffrei und frei von Fremdanhaftungen. Leere ungereinigte Verpackungen, die Gefahrgüter enthalten haben, unterliegen dem Gefahrgutrecht. Die Gebinde müssen verschlossen und die Gefahrgutkennzeichnung (Raute) darf nicht entfernt werden.
B46: Bitte die restentleerten Gebinde ebenerdig, witterungsgeschützt und frei zugänglich zum direkten Verladen bereitstellen. Bei der Abholung sollte ein Ansprechpartner vor Ort sein, der das Material übergibt und auch die Abholung entsprechend gegenzeichnet.
B47: Die Mindestabholmengen Abholung betragen:
B48: je Gebindegröße | E48: Stück | G48: Mit Ihrer Unterschrift bestätigen Sie die Einhaltung der Interzero Übernahmekriterien.
B49: < 10 Liter | E49: 40
B50: ≥ 10 Liter bis max. 60 Liter | E50: 20
B51: ≥ 60 Liter | E51: 5
G54: =TODAY() -> 46266
I55: Stempel/Unterschrift
B57: Bei Rückfragen kontaktieren Sie bitte die Interzero Hotline unter: 02203/9147-1366 oder unter dr.stoecker@interzero.de
E58: Rückbestätigung an die Anfallstelle durch Interzero
E61: Der Entsorgungsstatus wurde überprüft!
C63: Interzero praktiziert eine kostenlose Entsorgung im Hol-System!
C64: Zur Terminanfrage können Sie sich direkt an Ihren zuständigen Entsorgungspartner wenden!
C67: Ihr zuständiger Entsorgungspartner ist:
C68: Firma:
C76: Künftige Abholungen müssen erneut angemeldet werden.
C77: Benutzen Sie bitte dafür dieses Auftragsformular.
C78: (Die Übernahme der ordnungsgemäßen Verpackung ist kostenlos)
C83: Datum | F83: Interzero
C85: Es gelten unsere Allgemeinen Geschäftsbedingungen, im Internet unter www.interzero.com oder telefonisch unter +49 2203 9147-0. Interzero Circular Solutions Germany GmbH | Stollwerckstraße 9a | 51149 Köln | Postfach 90 06 40 | 51116 Köln Amtsgericht Köln, HRB 23 522, UST-IDNr. DE811575324 | Geschäftsführer: Melanie Freytag, Sebastian Kroll, Alexander Maak Bankverbindung: Commerzbank AG | IBAN: DE70 3708 0040 0981 8883 00 | BIC: DRESDEFF370 Zertifizierungen: DIN EN ISO 9001:2008, DIN EN ISO 14001:2009, BS OHSAS 18001 | Entsorgungsfachbetrieb
I89: Stammdaten | P89: Formeln
B90: Produkt | D90: techn. Kürzel | E90: Art.-Nr. | F90: Inhalt | H90: Dropdown | I90: Produkt-klasse | J90: GHS 1 | K90: GHS 2 | L90: GHS 3 | M90: GHS 4 | N90: UN-Nummer | O90: ADR | P90: Anzahl | Q90: GHS 1 | R90: GHS 2 | S90: GHS 3 | T90: GHS 4 | U90: ADR
B91: Aktiv Vorreiniger ALPHA | D91: A200 | E91: 662112 | F91: Kanister, 25 l | H91: =IF(D91="",CONCATENATE(B91,", Art.Nr. ",E91," - ",F91),CONCATENATE(D91," - ",B91,", Art.Nr. ",E91," - ",F91)) -> A200 - Aktiv Vorreiniger ALPHA, Art.Nr. 662112 - Kanister, 25 l | I91: 1719, 8, II, E | J91: GHS05 | K91: GHS07 | N91: =IF(I91="kein Gefahrgut","./.",LEFT(I91,4)) -> 1719 | O91: 8 | P91: =IF(ISERROR(VLOOKUP(H91,$B$19:$J$28,9,0)),0,VLOOKUP(H91,$B$19:$J$28,9,0)) -> 0 | Q91: =IF($P91<>0,J91,0) -> 0 | R91: =IF($P91>=1,K91,0) -> 0 | S91: =IF($P91>=1,L91,0) -> 0 | T91: =IF($P91>=1,M91,0) -> 0 | U91: =IF($P91>=1,O91,0) -> 0
B92: Aktiv-Vorreiniger ALPHA Less Foam | D92: A201 | E92: 68100039012 | F92: Kanister, 25 l | H92: =IF(D92="",CONCATENATE(B92,", Art.Nr. ",E92," - ",F92),CONCATENATE(D92," - ",B92,", Art.Nr. ",E92," - ",F92)) -> A201 - Aktiv-Vorreiniger ALPHA Less Foam, Art.Nr. 68100039012 - Kanister, 25 l | I92: 1719, 8, II, E | J92: GHS05 | K92: GHS07 | N92: =IF(I92="kein Gefahrgut","./.",LEFT(I92,4)) -> 1719 | O92: 8 | P92: =IF(ISERROR(VLOOKUP(H92,$B$19:$J$28,9,0)),0,VLOOKUP(H92,$B$19:$J$28,9,0)) -> 0 | Q92: =IF($P92<>0,J92,0) -> 0 | R92: =IF($P92>=1,K92,0) -> 0 | S92: =IF($P92>=1,L92,0) -> 0 | T92: =IF($P92>=1,M92,0) -> 0 | U92: =IF($P92>=1,O92,0) -> 0
B93: Duftschaum ALPHA | D93: A300 | E93: 663212 | F93: Kanister, 25 l | H93: =IF(D93="",CONCATENATE(B93,", Art.Nr. ",E93," - ",F93),CONCATENATE(D93," - ",B93,", Art.Nr. ",E93," - ",F93)) -> A300 - Duftschaum ALPHA, Art.Nr. 663212 - Kanister, 25 l | I93: Kein Gefahrgut | J93: GHS05 | N93: =IF(I93="kein Gefahrgut","./.",LEFT(I93,4)) -> ./. | O93: ./. | P93: =IF(ISERROR(VLOOKUP(H93,$B$19:$J$28,9,0)),0,VLOOKUP(H93,$B$19:$J$28,9,0)) -> 0 | Q93: =IF($P93<>0,J93,0) -> 0 | R93: =IF($P93>=1,K93,0) -> 0 | S93: =IF($P93>=1,L93,0) -> 0 | T93: =IF($P93>=1,M93,0) -> 0 | U93: =IF($P93>=1,O93,0) -> 0
B94: SB-Schaum ALPHA | D94: A301 | E94: 310612 | F94: Kanister, 25 l | H94: =IF(D94="",CONCATENATE(B94,", Art.Nr. ",E94," - ",F94),CONCATENATE(D94," - ",B94,", Art.Nr. ",E94," - ",F94)) -> A301 - SB-Schaum ALPHA, Art.Nr. 310612 - Kanister, 25 l | I94: Kein Gefahrgut | J94: GHS05 | N94: =IF(I94="kein Gefahrgut","./.",LEFT(I94,4)) -> ./. | O94: ./. | P94: =IF(ISERROR(VLOOKUP(H94,$B$19:$J$28,9,0)),0,VLOOKUP(H94,$B$19:$J$28,9,0)) -> 0 | Q94: =IF($P94<>0,J94,0) -> 0 | R94: =IF($P94>=1,K94,0) -> 0 | S94: =IF($P94>=1,L94,0) -> 0 | T94: =IF($P94>=1,M94,0) -> 0 | U94: =IF($P94>=1,O94,0) -> 0
B95: Intensiv Shampoo ALPHA | D95: A400 | E95: 660112 | F95: Kanister, 25 l | H95: =IF(D95="",CONCATENATE(B95,", Art.Nr. ",E95," - ",F95),CONCATENATE(D95," - ",B95,", Art.Nr. ",E95," - ",F95)) -> A400 - Intensiv Shampoo ALPHA, Art.Nr. 660112 - Kanister, 25 l | I95: Kein Gefahrgut | J95: GHS05 | N95: =IF(I95="kein Gefahrgut","./.",LEFT(I95,4)) -> ./. | O95: ./. | P95: =IF(ISERROR(VLOOKUP(H95,$B$19:$J$28,9,0)),0,VLOOKUP(H95,$B$19:$J$28,9,0)) -> 0 | Q95: =IF($P95<>0,J95,0) -> 0 | R95: =IF($P95>=1,K95,0) -> 0 | S95: =IF($P95>=1,L95,0) -> 0 | T95: =IF($P95>=1,M95,0) -> 0 | U95: =IF($P95>=1,O95,0) -> 0
B96: Schaumglanzpolitur ALPHA | D96: A500 | E96: 665312 | F96: Kanister, 25 l | H96: =IF(D96="",CONCATENATE(B96,", Art.Nr. ",E96," - ",F96),CONCATENATE(D96," - ",B96,", Art.Nr. ",E96," - ",F96)) -> A500 - Schaumglanzpolitur ALPHA, Art.Nr. 665312 - Kanister, 25 l | I96: Kein Gefahrgut | J96: GHS05 | N96: =IF(I96="kein Gefahrgut","./.",LEFT(I96,4)) -> ./. | O96: ./. | P96: =IF(ISERROR(VLOOKUP(H96,$B$19:$J$28,9,0)),0,VLOOKUP(H96,$B$19:$J$28,9,0)) -> 0 | Q96: =IF($P96<>0,J96,0) -> 0 | R96: =IF($P96>=1,K96,0) -> 0 | S96: =IF($P96>=1,L96,0) -> 0 | T96: =IF($P96>=1,M96,0) -> 0 | U96: =IF($P96>=1,O96,0) -> 0
B97: Glanzkonservierer ALPHA | D97: A501 | E97: 665412 | F97: Kanister, 25 l | H97: =IF(D97="",CONCATENATE(B97,", Art.Nr. ",E97," - ",F97),CONCATENATE(D97," - ",B97,", Art.Nr. ",E97," - ",F97)) -> A501 - Glanzkonservierer ALPHA, Art.Nr. 665412 - Kanister, 25 l | I97: Kein Gefahrgut | J97: GHS05 | N97: =IF(I97="kein Gefahrgut","./.",LEFT(I97,4)) -> ./. | O97: ./. | P97: =IF(ISERROR(VLOOKUP(H97,$B$19:$J$28,9,0)),0,VLOOKUP(H97,$B$19:$J$28,9,0)) -> 0 | Q97: =IF($P97<>0,J97,0) -> 0 | R97: =IF($P97>=1,K97,0) -> 0 | S97: =IF($P97>=1,L97,0) -> 0 | T97: =IF($P97>=1,M97,0) -> 0 | U97: =IF($P97>=1,O97,0) -> 0
B98: Glanztrockner ALPHA | D98: A600 | E98: 670812 | F98: Kanister, 25 l | H98: =IF(D98="",CONCATENATE(B98,", Art.Nr. ",E98," - ",F98),CONCATENATE(D98," - ",B98,", Art.Nr. ",E98," - ",F98)) -> A600 - Glanztrockner ALPHA, Art.Nr. 670812 - Kanister, 25 l | I98: Kein Gefahrgut | J98: GHS05 | N98: =IF(I98="kein Gefahrgut","./.",LEFT(I98,4)) -> ./. | O98: ./. | P98: =IF(ISERROR(VLOOKUP(H98,$B$19:$J$28,9,0)),0,VLOOKUP(H98,$B$19:$J$28,9,0)) -> 0 | Q98: =IF($P98<>0,J98,0) -> 0 | R98: =IF($P98>=1,K98,0) -> 0 | S98: =IF($P98>=1,L98,0) -> 0 | T98: =IF($P98>=1,M98,0) -> 0 | U98: =IF($P98>=1,O98,0) -> 0
B99: Reiniger Basic | D99: B200 | E99: 530012 | F99: Kanister, 25 l | H99: =IF(D99="",CONCATENATE(B99,", Art.Nr. ",E99," - ",F99),CONCATENATE(D99," - ",B99,", Art.Nr. ",E99," - ",F99)) -> B200 - Reiniger Basic, Art.Nr. 530012 - Kanister, 25 l | I99: Kein Gefahrgut | J99: GHS07 | K99: 0 | L99: 0 | M99: 0 | N99: =IF(I99="kein Gefahrgut","./.",LEFT(I99,4)) -> ./. | O99: ./. | P99: =IF(ISERROR(VLOOKUP(H99,$B$19:$J$28,9,0)),0,VLOOKUP(H99,$B$19:$J$28,9,0)) -> 0 | Q99: =IF($P99<>0,J99,0) -> 0 | R99: =IF($P99>=1,K99,0) -> 0 | S99: =IF($P99>=1,L99,0) -> 0 | T99: =IF($P99>=1,M99,0) -> 0 | U99: =IF($P99>=1,O99,0) -> 0
B100: Schaum Basic | D100: B300 | E100: 530112 | F100: Kanister, 25 l | H100: =IF(D100="",CONCATENATE(B100,", Art.Nr. ",E100," - ",F100),CONCATENATE(D100," - ",B100,", Art.Nr. ",E100," - ",F100)) -> B300 - Schaum Basic, Art.Nr. 530112 - Kanister, 25 l | I100: Kein Gefahrgut | J100: GHS07 | N100: =IF(I100="kein Gefahrgut","./.",LEFT(I100,4)) -> ./. | O100: ./. | P100: =IF(ISERROR(VLOOKUP(H100,$B$19:$J$28,9,0)),0,VLOOKUP(H100,$B$19:$J$28,9,0)) -> 0 | Q100: =IF($P100<>0,J100,0) -> 0 | R100: =IF($P100>=1,K100,0) -> 0 | S100: =IF($P100>=1,L100,0) -> 0 | T100: =IF($P100>=1,M100,0) -> 0 | U100: =IF($P100>=1,O100,0) -> 0
B101: Schaum Basic | D101: B300 | E101: 530128 | F101: Faß, 200 l | H101: =IF(D101="",CONCATENATE(B101,", Art.Nr. ",E101," - ",F101),CONCATENATE(D101," - ",B101,", Art.Nr. ",E101," - ",F101)) -> B300 - Schaum Basic, Art.Nr. 530128 - Faß, 200 l | I101: Kein Gefahrgut | J101: GHS07 | N101: =IF(I101="kein Gefahrgut","./.",LEFT(I101,4)) -> ./. | O101: ./. | P101: =IF(ISERROR(VLOOKUP(H101,$B$19:$J$28,9,0)),0,VLOOKUP(H101,$B$19:$J$28,9,0)) -> 0 | Q101: =IF($P101<>0,J101,0) -> 0 | R101: =IF($P101>=1,K101,0) -> 0 | S101: =IF($P101>=1,L101,0) -> 0 | T101: =IF($P101>=1,M101,0) -> 0 | U101: =IF($P101>=1,O101,0) -> 0
B102: Shampoo Basic | D102: B400 | E102: 530212 | F102: Kanister, 25 l | H102: =IF(D102="",CONCATENATE(B102,", Art.Nr. ",E102," - ",F102),CONCATENATE(D102," - ",B102,", Art.Nr. ",E102," - ",F102)) -> B400 - Shampoo Basic , Art.Nr. 530212 - Kanister, 25 l | I102: Kein Gefahrgut | J102: GHS05 | N102: =IF(I102="kein Gefahrgut","./.",LEFT(I102,4)) -> ./. | O102: ./. | P102: =IF(ISERROR(VLOOKUP(H102,$B$19:$J$28,9,0)),0,VLOOKUP(H102,$B$19:$J$28,9,0)) -> 0 | Q102: =IF($P102<>0,J102,0) -> 0 | R102: =IF($P102>=1,K102,0) -> 0 | S102: =IF($P102>=1,L102,0) -> 0 | T102: =IF($P102>=1,M102,0) -> 0 | U102: =IF($P102>=1,O102,0) -> 0
B103: Konservierer Basic | D103: B500 | E103: 530512 | F103: Kanister, 25 l | H103: =IF(D103="",CONCATENATE(B103,", Art.Nr. ",E103," - ",F103),CONCATENATE(D103," - ",B103,", Art.Nr. ",E103," - ",F103)) -> B500 - Konservierer Basic, Art.Nr. 530512 - Kanister, 25 l | I103: Kein Gefahrgut | J103: GHS05 | N103: =IF(I103="kein Gefahrgut","./.",LEFT(I103,4)) -> ./. | O103: ./. | P103: =IF(ISERROR(VLOOKUP(H103,$B$19:$J$28,9,0)),0,VLOOKUP(H103,$B$19:$J$28,9,0)) -> 0 | Q103: =IF($P103<>0,J103,0) -> 0 | R103: =IF($P103>=1,K103,0) -> 0 | S103: =IF($P103>=1,L103,0) -> 0 | T103: =IF($P103>=1,M103,0) -> 0 | U103: =IF($P103>=1,O103,0) -> 0
B104: Trockner Basic | D104: B601 | E104: 530312 | F104: Kanister, 25 l | H104: =IF(D104="",CONCATENATE(B104,", Art.Nr. ",E104," - ",F104),CONCATENATE(D104," - ",B104,", Art.Nr. ",E104," - ",F104)) -> B601 - Trockner Basic, Art.Nr. 530312 - Kanister, 25 l | I104: Kein Gefahrgut | J104: GHS05 | N104: =IF(I104="kein Gefahrgut","./.",LEFT(I104,4)) -> ./. | O104: ./. | P104: =IF(ISERROR(VLOOKUP(H104,$B$19:$J$28,9,0)),0,VLOOKUP(H104,$B$19:$J$28,9,0)) -> 0 | Q104: =IF($P104<>0,J104,0) -> 0 | R104: =IF($P104>=1,K104,0) -> 0 | S104: =IF($P104>=1,L104,0) -> 0 | T104: =IF($P104>=1,M104,0) -> 0 | U104: =IF($P104>=1,O104,0) -> 0
B105: CERAMIC POLISH | D105: CP900 | E105: 68100017012 | F105: Kanister, 25 l | H105: =IF(D105="",CONCATENATE(B105,", Art.Nr. ",E105," - ",F105),CONCATENATE(D105," - ",B105,", Art.Nr. ",E105," - ",F105)) -> CP900 - CERAMIC POLISH, Art.Nr. 68100017012 - Kanister, 25 l | I105: Kein Gefahrgut | N105: =IF(I105="kein Gefahrgut","./.",LEFT(I105,4)) -> ./. | O105: ./. | P105: =IF(ISERROR(VLOOKUP(H105,$B$19:$J$28,9,0)),0,VLOOKUP(H105,$B$19:$J$28,9,0)) -> 0 | Q105: =IF($P105<>0,J105,0) -> 0 | R105: =IF($P105>=1,K105,0) -> 0 | S105: =IF($P105>=1,L105,0) -> 0 | T105: =IF($P105>=1,M105,0) -> 0 | U105: =IF($P105>=1,O105,0) -> 0
B106: Neutral Shampoo ECOPRO | D106: EP400 | E106: 410712 | F106: Kanister, 25 l | H106: =IF(D106="",CONCATENATE(B106,", Art.Nr. ",E106," - ",F106),CONCATENATE(D106," - ",B106,", Art.Nr. ",E106," - ",F106)) -> EP400 - Neutral Shampoo ECOPRO, Art.Nr. 410712 - Kanister, 25 l | I106: Kein Gefahrgut | N106: =IF(I106="kein Gefahrgut","./.",LEFT(I106,4)) -> ./. | O106: ./. | P106: =IF(ISERROR(VLOOKUP(H106,$B$19:$J$28,9,0)),0,VLOOKUP(H106,$B$19:$J$28,9,0)) -> 0 | Q106: =IF($P106<>0,J106,0) -> 0 | R106: =IF($P106>=1,K106,0) -> 0 | S106: =IF($P106>=1,L106,0) -> 0 | T106: =IF($P106>=1,M106,0) -> 0 | U106: =IF($P106>=1,O106,0) -> 0
B107: Schaumglanz ECOPRO | D107: EP500 | E107: 670612 | F107: Kanister, 25 l | H107: =IF(D107="",CONCATENATE(B107,", Art.Nr. ",E107," - ",F107),CONCATENATE(D107," - ",B107,", Art.Nr. ",E107," - ",F107)) -> EP500 - Schaumglanz ECOPRO, Art.Nr. 670612 - Kanister, 25 l | I107: Kein Gefahrgut | N107: =IF(I107="kein Gefahrgut","./.",LEFT(I107,4)) -> ./. | O107: ./. | P107: =IF(ISERROR(VLOOKUP(H107,$B$19:$J$28,9,0)),0,VLOOKUP(H107,$B$19:$J$28,9,0)) -> 0 | Q107: =IF($P107<>0,J107,0) -> 0 | R107: =IF($P107>=1,K107,0) -> 0 | S107: =IF($P107>=1,L107,0) -> 0 | T107: =IF($P107>=1,M107,0) -> 0 | U107: =IF($P107>=1,O107,0) -> 0
B108: Glanztrockner ECOPRO | D108: EP600 | E108: 610212 | F108: Kanister, 25 l | H108: =IF(D108="",CONCATENATE(B108,", Art.Nr. ",E108," - ",F108),CONCATENATE(D108," - ",B108,", Art.Nr. ",E108," - ",F108)) -> EP600 - Glanztrockner ECOPRO, Art.Nr. 610212 - Kanister, 25 l | I108: Kein Gefahrgut | N108: =IF(I108="kein Gefahrgut","./.",LEFT(I108,4)) -> ./. | O108: ./. | P108: =IF(ISERROR(VLOOKUP(H108,$B$19:$J$28,9,0)),0,VLOOKUP(H108,$B$19:$J$28,9,0)) -> 0 | Q108: =IF($P108<>0,J108,0) -> 0 | R108: =IF($P108>=1,K108,0) -> 0 | S108: =IF($P108>=1,L108,0) -> 0 | T108: =IF($P108>=1,M108,0) -> 0 | U108: =IF($P108>=1,O108,0) -> 0
B109: Prewash EVENTUM | D109: EV200 | E109: 525012 | F109: Kanister, 25 l | H109: =IF(D109="",CONCATENATE(B109,", Art.Nr. ",E109," - ",F109),CONCATENATE(D109," - ",B109,", Art.Nr. ",E109," - ",F109)) -> EV200 - Prewash EVENTUM, Art.Nr. 525012 - Kanister, 25 l | I109: 1719, 8, II, E | J109: GHS05 | N109: =IF(I109="kein Gefahrgut","./.",LEFT(I109,4)) -> 1719 | O109: 8 | P109: =IF(ISERROR(VLOOKUP(H109,$B$19:$J$28,9,0)),0,VLOOKUP(H109,$B$19:$J$28,9,0)) -> 0 | Q109: =IF($P109<>0,J109,0) -> 0 | R109: =IF($P109>=1,K109,0) -> 0 | S109: =IF($P109>=1,L109,0) -> 0 | T109: =IF($P109>=1,M109,0) -> 0 | U109: =IF($P109>=1,O109,0) -> 0
B110: SB Schaum Eventum | D110: EV300 | E110: 525328 | F110: Faß, 200 l | H110: =IF(D110="",CONCATENATE(B110,", Art.Nr. ",E110," - ",F110),CONCATENATE(D110," - ",B110,", Art.Nr. ",E110," - ",F110)) -> EV300 - SB Schaum Eventum, Art.Nr. 525328 - Faß, 200 l | I110: Kein Gefahrgut | J110: GHS07 | N110: =IF(I110="kein Gefahrgut","./.",LEFT(I110,4)) -> ./. | O110: ./. | P110: =IF(ISERROR(VLOOKUP(H110,$B$19:$J$28,9,0)),0,VLOOKUP(H110,$B$19:$J$28,9,0)) -> 0 | Q110: =IF($P110<>0,J110,0) -> 0 | R110: =IF($P110>=1,K110,0) -> 0 | S110: =IF($P110>=1,L110,0) -> 0 | T110: =IF($P110>=1,M110,0) -> 0 | U110: =IF($P110>=1,O110,0) -> 0
B111: SB-Schaum EVENTUM | D111: EV300 | E111: 525312 | F111: Kanister, 25 l | H111: =IF(D111="",CONCATENATE(B111,", Art.Nr. ",E111," - ",F111),CONCATENATE(D111," - ",B111,", Art.Nr. ",E111," - ",F111)) -> EV300 - SB-Schaum EVENTUM , Art.Nr. 525312 - Kanister, 25 l | I111: Kein Gefahrgut | J111: GHS07 | N111: =IF(I111="kein Gefahrgut","./.",LEFT(I111,4)) -> ./. | O111: ./. | P111: =IF(ISERROR(VLOOKUP(H111,$B$19:$J$28,9,0)),0,VLOOKUP(H111,$B$19:$J$28,9,0)) -> 0 | Q111: =IF($P111<>0,J111,0) -> 0 | R111: =IF($P111>=1,K111,0) -> 0 | S111: =IF($P111>=1,L111,0) -> 0 | T111: =IF($P111>=1,M111,0) -> 0 | U111: =IF($P111>=1,O111,0) -> 0
B112: Performance Schaum EVENTUM | D112: EV301 | E112: 525112 | F112: Kanister, 25 l | H112: =IF(D112="",CONCATENATE(B112,", Art.Nr. ",E112," - ",F112),CONCATENATE(D112," - ",B112,", Art.Nr. ",E112," - ",F112)) -> EV301 - Performance Schaum EVENTUM, Art.Nr. 525112 - Kanister, 25 l | I112: Kein Gefahrgut | J112: GHS07 | N112: =IF(I112="kein Gefahrgut","./.",LEFT(I112,4)) -> ./. | O112: ./. | P112: =IF(ISERROR(VLOOKUP(H112,$B$19:$J$28,9,0)),0,VLOOKUP(H112,$B$19:$J$28,9,0)) -> 0 | Q112: =IF($P112<>0,J112,0) -> 0 | R112: =IF($P112>=1,K112,0) -> 0 | S112: =IF($P112>=1,L112,0) -> 0 | T112: =IF($P112>=1,M112,0) -> 0 | U112: =IF($P112>=1,O112,0) -> 0
B113: Color Schaum Eventum | D113: EV302 | E113: 663112 | F113: Kanister, 25 l | H113: =IF(D113="",CONCATENATE(B113,", Art.Nr. ",E113," - ",F113),CONCATENATE(D113," - ",B113,", Art.Nr. ",E113," - ",F113)) -> EV302 - Color Schaum Eventum, Art.Nr. 663112 - Kanister, 25 l | I113: 3267 8;II; E | J113: GHS05 | K113: GHS08 | N113: =IF(I113="kein Gefahrgut","./.",LEFT(I113,4)) -> 3267 | O113: 8 | P113: =IF(ISERROR(VLOOKUP(H113,$B$19:$J$28,9,0)),0,VLOOKUP(H113,$B$19:$J$28,9,0)) -> 0 | Q113: =IF($P113<>0,J113,0) -> 0 | R113: =IF($P113>=1,K113,0) -> 0 | S113: =IF($P113>=1,L113,0) -> 0 | T113: =IF($P113>=1,M113,0) -> 0 | U113: =IF($P113>=1,O113,0) -> 0
B114: Fosgalon TC 10 | D114: FO900 | E114: 664012 | F114: Kanister, 25 l | H114: =IF(D114="",CONCATENATE(B114,", Art.Nr. ",E114," - ",F114),CONCATENATE(D114," - ",B114,", Art.Nr. ",E114," - ",F114)) -> FO900 - Fosgalon TC 10 , Art.Nr. 664012 - Kanister, 25 l | I114: 1719, 8, II, E | J114: GHS05 | N114: =IF(I114="kein Gefahrgut","./.",LEFT(I114,4)) -> 1719 | O114: 8 | P114: =IF(ISERROR(VLOOKUP(H114,$B$19:$J$28,9,0)),0,VLOOKUP(H114,$B$19:$J$28,9,0)) -> 0 | Q114: =IF($P114<>0,J114,0) -> 0 | R114: =IF($P114>=1,K114,0) -> 0 | S114: =IF($P114>=1,L114,0) -> 0 | T114: =IF($P114>=1,M114,0) -> 0 | U114: =IF($P114>=1,O114,0) -> 0
B115: Fosgalon TC 10 | D115: FO900 | E115: 664028 | F115: Faß, 200 l | H115: =IF(D115="",CONCATENATE(B115,", Art.Nr. ",E115," - ",F115),CONCATENATE(D115," - ",B115,", Art.Nr. ",E115," - ",F115)) -> FO900 - Fosgalon TC 10 , Art.Nr. 664028 - Faß, 200 l | I115: 1719, 8, II, E | J115: GHS05 | N115: =IF(I115="kein Gefahrgut","./.",LEFT(I115,4)) -> 1719 | O115: 8 | P115: =IF(ISERROR(VLOOKUP(H115,$B$19:$J$28,9,0)),0,VLOOKUP(H115,$B$19:$J$28,9,0)) -> 0 | Q115: =IF($P115<>0,J115,0) -> 0 | R115: =IF($P115>=1,K115,0) -> 0 | S115: =IF($P115>=1,L115,0) -> 0 | T115: =IF($P115>=1,M115,0) -> 0 | U115: =IF($P115>=1,O115,0) -> 0
B116: Fosgalon TC A FoamEx | D116: FO901 | E116: 66430112 | F116: Kanister, 25 l | H116: =IF(D116="",CONCATENATE(B116,", Art.Nr. ",E116," - ",F116),CONCATENATE(D116," - ",B116,", Art.Nr. ",E116," - ",F116)) -> FO901 - Fosgalon TC A FoamEx , Art.Nr. 66430112 - Kanister, 25 l | I116: Kein Gefahrgut | J116: GHS07 | N116: =IF(I116="kein Gefahrgut","./.",LEFT(I116,4)) -> ./. | O116: ./. | P116: =IF(ISERROR(VLOOKUP(H116,$B$19:$J$28,9,0)),0,VLOOKUP(H116,$B$19:$J$28,9,0)) -> 0 | Q116: =IF($P116<>0,J116,0) -> 0 | R116: =IF($P116>=1,K116,0) -> 0 | S116: =IF($P116>=1,L116,0) -> 0 | T116: =IF($P116>=1,M116,0) -> 0 | U116: =IF($P116>=1,O116,0) -> 0
B117: Fosgalon TC S | D117: FO902 | E117: 664512 | F117: Kanister, 25 l | H117: =IF(D117="",CONCATENATE(B117,", Art.Nr. ",E117," - ",F117),CONCATENATE(D117," - ",B117,", Art.Nr. ",E117," - ",F117)) -> FO902 - Fosgalon TC S , Art.Nr. 664512 - Kanister, 25 l | I117: 2922, 8+6.1, II, E | J117: GHS05 | K117: GHS06 | L117: 0 | M117: 0 | N117: =IF(I117="kein Gefahrgut","./.",LEFT(I117,4)) -> 2922 | O117: 8 | P117: =IF(ISERROR(VLOOKUP(H117,$B$19:$J$28,9,0)),0,VLOOKUP(H117,$B$19:$J$28,9,0)) -> 0 | Q117: =IF($P117<>0,J117,0) -> 0 | R117: =IF($P117>=1,K117,0) -> 0 | S117: =IF($P117>=1,L117,0) -> 0 | T117: =IF($P117>=1,M117,0) -> 0 | U117: =IF($P117>=1,O117,0) -> 0
B118: Fosgalon TI S 10 | D118: FO903 | E118: 664912 | F118: Kanister, 25 l | H118: =IF(D118="",CONCATENATE(B118,", Art.Nr. ",E118," - ",F118),CONCATENATE(D118," - ",B118,", Art.Nr. ",E118," - ",F118)) -> FO903 - Fosgalon TI S 10, Art.Nr. 664912 - Kanister, 25 l | I118: 3264, 8, II, E | J118: GHS05 | N118: =IF(I118="kein Gefahrgut","./.",LEFT(I118,4)) -> 3264 | O118: 8 | P118: =IF(ISERROR(VLOOKUP(H118,$B$19:$J$28,9,0)),0,VLOOKUP(H118,$B$19:$J$28,9,0)) -> 0 | Q118: =IF($P118<>0,J118,0) -> 0 | R118: =IF($P118>=1,K118,0) -> 0 | S118: =IF($P118>=1,L118,0) -> 0 | T118: =IF($P118>=1,M118,0) -> 0 | U118: =IF($P118>=1,O118,0) -> 0
B119: Fosgalon TI S 10 | D119: FO903 | E119: 664928 | F119: Faß, 200 l | H119: =IF(D119="",CONCATENATE(B119,", Art.Nr. ",E119," - ",F119),CONCATENATE(D119," - ",B119,", Art.Nr. ",E119," - ",F119)) -> FO903 - Fosgalon TI S 10 , Art.Nr. 664928 - Faß, 200 l | I119: 3264, 8, II, E | J119: GHS05 | N119: =IF(I119="kein Gefahrgut","./.",LEFT(I119,4)) -> 3264 | O119: 8 | P119: =IF(ISERROR(VLOOKUP(H119,$B$19:$J$28,9,0)),0,VLOOKUP(H119,$B$19:$J$28,9,0)) -> 0 | Q119: =IF($P119<>0,J119,0) -> 0 | R119: =IF($P119>=1,K119,0) -> 0 | S119: =IF($P119>=1,L119,0) -> 0 | T119: =IF($P119>=1,M119,0) -> 0 | U119: =IF($P119>=1,O119,0) -> 0
B120: Fosgalon TI S 20 | D120: FO904 | E120: 667112 | F120: Kanister, 25 l | H120: =IF(D120="",CONCATENATE(B120,", Art.Nr. ",E120," - ",F120),CONCATENATE(D120," - ",B120,", Art.Nr. ",E120," - ",F120)) -> FO904 - Fosgalon TI S 20 , Art.Nr. 667112 - Kanister, 25 l | I120: 1805 8; III; E | J120: GHS05 | N120: =IF(I120="kein Gefahrgut","./.",LEFT(I120,4)) -> 1805 | O120: 8 | P120: =IF(ISERROR(VLOOKUP(H120,$B$19:$J$28,9,0)),0,VLOOKUP(H120,$B$19:$J$28,9,0)) -> 0 | Q120: =IF($P120<>0,J120,0) -> 0 | R120: =IF($P120>=1,K120,0) -> 0 | S120: =IF($P120>=1,L120,0) -> 0 | T120: =IF($P120>=1,M120,0) -> 0 | U120: =IF($P120>=1,O120,0) -> 0
B121: Fosgalon TI M2000 | D121: FO905 | E121: 664612 | F121: Kanister, 25 l | H121: =IF(D121="",CONCATENATE(B121,", Art.Nr. ",E121," - ",F121),CONCATENATE(D121," - ",B121,", Art.Nr. ",E121," - ",F121)) -> FO905 - Fosgalon TI M2000 , Art.Nr. 664612 - Kanister, 25 l | I121: 1814 8; II; E | J121: GHS05 | N121: =IF(I121="kein Gefahrgut","./.",LEFT(I121,4)) -> 1814 | O121: 8 | P121: =IF(ISERROR(VLOOKUP(H121,$B$19:$J$28,9,0)),0,VLOOKUP(H121,$B$19:$J$28,9,0)) -> 0 | Q121: =IF($P121<>0,J121,0) -> 0 | R121: =IF($P121>=1,K121,0) -> 0 | S121: =IF($P121>=1,L121,0) -> 0 | T121: =IF($P121>=1,M121,0) -> 0 | U121: =IF($P121>=1,O121,0) -> 0
B122: Fosgalon TC Z | D122: FO906 | E122: 652412 | F122: Kanister, 25 l | H122: =IF(D122="",CONCATENATE(B122,", Art.Nr. ",E122," - ",F122),CONCATENATE(D122," - ",B122,", Art.Nr. ",E122," - ",F122)) -> FO906 - Fosgalon TC Z , Art.Nr. 652412 - Kanister, 25 l | I122: 1789 8; II; E | J122: GHS05 | N122: =IF(I122="kein Gefahrgut","./.",LEFT(I122,4)) -> 1789 | O122: 8 | P122: =IF(ISERROR(VLOOKUP(H122,$B$19:$J$28,9,0)),0,VLOOKUP(H122,$B$19:$J$28,9,0)) -> 0 | Q122: =IF($P122<>0,J122,0) -> 0 | R122: =IF($P122>=1,K122,0) -> 0 | S122: =IF($P122>=1,L122,0) -> 0 | T122: =IF($P122>=1,M122,0) -> 0 | U122: =IF($P122>=1,O122,0) -> 0
B123: Fosgalon TI 40 | D123: FO907 | E123: 664812 | F123: Kanister, 25 l | H123: =IF(D123="",CONCATENATE(B123,", Art.Nr. ",E123," - ",F123),CONCATENATE(D123," - ",B123,", Art.Nr. ",E123," - ",F123)) -> FO907 - Fosgalon TI 40 , Art.Nr. 664812 - Kanister, 25 l | I123: 1719, 8, II, E | J123: GHS05 | N123: =IF(I123="kein Gefahrgut","./.",LEFT(I123,4)) -> 1719 | O123: 8 | P123: =IF(ISERROR(VLOOKUP(H123,$B$19:$J$28,9,0)),0,VLOOKUP(H123,$B$19:$J$28,9,0)) -> 0 | Q123: =IF($P123<>0,J123,0) -> 0 | R123: =IF($P123>=1,K123,0) -> 0 | S123: =IF($P123>=1,L123,0) -> 0 | T123: =IF($P123>=1,M123,0) -> 0 | U123: =IF($P123>=1,O123,0) -> 0
B124: Fosgalon TC R | D124: FO909 | E124: 601112 | F124: Kanister, 25 l | H124: =IF(D124="",CONCATENATE(B124,", Art.Nr. ",E124," - ",F124),CONCATENATE(D124," - ",B124,", Art.Nr. ",E124," - ",F124)) -> FO909 - Fosgalon TC R , Art.Nr. 601112 - Kanister, 25 l | I124: 3264 8; II; E | J124: GHS05 | N124: =IF(I124="kein Gefahrgut","./.",LEFT(I124,4)) -> 3264 | O124: 8 | P124: =IF(ISERROR(VLOOKUP(H124,$B$19:$J$28,9,0)),0,VLOOKUP(H124,$B$19:$J$28,9,0)) -> 0 | Q124: =IF($P124<>0,J124,0) -> 0 | R124: =IF($P124>=1,K124,0) -> 0 | S124: =IF($P124>=1,L124,0) -> 0 | T124: =IF($P124>=1,M124,0) -> 0 | U124: =IF($P124>=1,O124,0) -> 0
B125: Fosgalon TC T | D125: FO911 | E125: 666612 | F125: Kanister, 25 l | H125: =IF(D125="",CONCATENATE(B125,", Art.Nr. ",E125," - ",F125),CONCATENATE(D125," - ",B125,", Art.Nr. ",E125," - ",F125)) -> FO911 - Fosgalon TC T , Art.Nr. 666612 - Kanister, 25 l | I125: Kein Gefahrgut | J125: GHS05 | N125: =IF(I125="kein Gefahrgut","./.",LEFT(I125,4)) -> ./. | O125: ./. | P125: =IF(ISERROR(VLOOKUP(H125,$B$19:$J$28,9,0)),0,VLOOKUP(H125,$B$19:$J$28,9,0)) -> 0 | Q125: =IF($P125<>0,J125,0) -> 0 | R125: =IF($P125>=1,K125,0) -> 0 | S125: =IF($P125>=1,L125,0) -> 0 | T125: =IF($P125>=1,M125,0) -> 0 | U125: =IF($P125>=1,O125,0) -> 0
B126: Fosgalon TC Pre Power | D126: FO912 | E126: 542412 | F126: Kanister, 25 l | H126: =IF(D126="",CONCATENATE(B126,", Art.Nr. ",E126," - ",F126),CONCATENATE(D126," - ",B126,", Art.Nr. ",E126," - ",F126)) -> FO912 - Fosgalon TC Pre Power , Art.Nr. 542412 - Kanister, 25 l | I126: 1719, 8, II, E | J126: GHS05 | N126: =IF(I126="kein Gefahrgut","./.",LEFT(I126,4)) -> 1719 | O126: 8 | P126: =IF(ISERROR(VLOOKUP(H126,$B$19:$J$28,9,0)),0,VLOOKUP(H126,$B$19:$J$28,9,0)) -> 0 | Q126: =IF($P126<>0,J126,0) -> 0 | R126: =IF($P126>=1,K126,0) -> 0 | S126: =IF($P126>=1,L126,0) -> 0 | T126: =IF($P126>=1,M126,0) -> 0 | U126: =IF($P126>=1,O126,0) -> 0
B127: Fosgalon TC Pre Power | D127: FO912 | E127: 542428 | F127: Faß, 200 l | H127: =IF(D127="",CONCATENATE(B127,", Art.Nr. ",E127," - ",F127),CONCATENATE(D127," - ",B127,", Art.Nr. ",E127," - ",F127)) -> FO912 - Fosgalon TC Pre Power , Art.Nr. 542428 - Faß, 200 l | I127: 1719, 8, II, E | J127: GHS05 | N127: =IF(I127="kein Gefahrgut","./.",LEFT(I127,4)) -> 1719 | O127: 8 | P127: =IF(ISERROR(VLOOKUP(H127,$B$19:$J$28,9,0)),0,VLOOKUP(H127,$B$19:$J$28,9,0)) -> 0 | Q127: =IF($P127<>0,J127,0) -> 0 | R127: =IF($P127>=1,K127,0) -> 0 | S127: =IF($P127>=1,L127,0) -> 0 | T127: =IF($P127>=1,M127,0) -> 0 | U127: =IF($P127>=1,O127,0) -> 0
B128: Fosgalon TC Multi | D128: FO913 | E128: 541112 | F128: Kanister, 25 l | H128: =IF(D128="",CONCATENATE(B128,", Art.Nr. ",E128," - ",F128),CONCATENATE(D128," - ",B128,", Art.Nr. ",E128," - ",F128)) -> FO913 - Fosgalon TC Multi, Art.Nr. 541112 - Kanister, 25 l | I128: 1824 8; II; E | J128: GHS05 | N128: =IF(I128="kein Gefahrgut","./.",LEFT(I128,4)) -> 1824 | O128: 8 | P128: =IF(ISERROR(VLOOKUP(H128,$B$19:$J$28,9,0)),0,VLOOKUP(H128,$B$19:$J$28,9,0)) -> 0 | Q128: =IF($P128<>0,J128,0) -> 0 | R128: =IF($P128>=1,K128,0) -> 0 | S128: =IF($P128>=1,L128,0) -> 0 | T128: =IF($P128>=1,M128,0) -> 0 | U128: =IF($P128>=1,O128,0) -> 0
B129: Fosgalon TC Multi | D129: FO913 | E129: 541128 | F129: Faß, 200 l | H129: =IF(D129="",CONCATENATE(B129,", Art.Nr. ",E129," - ",F129),CONCATENATE(D129," - ",B129,", Art.Nr. ",E129," - ",F129)) -> FO913 - Fosgalon TC Multi, Art.Nr. 541128 - Faß, 200 l | I129: 1824 8; II; E | J129: GHS05 | N129: 1824 | O129: 8 | P129: =IF(ISERROR(VLOOKUP(H129,$B$19:$J$28,9,0)),0,VLOOKUP(H129,$B$19:$J$28,9,0)) -> 0 | Q129: =IF($P129<>0,J129,0) -> 0 | R129: =IF($P129>=1,K129,0) -> 0 | S129: =IF($P129>=1,L129,0) -> 0 | T129: =IF($P129>=1,M129,0) -> 0 | U129: =IF($P129>=1,O129,0) -> 0
B130: Aktiv-Felgenreiniger forte | D130: FT100 | E130: 540012 | F130: Kanister, 25 l | H130: =IF(D130="",CONCATENATE(B130,", Art.Nr. ",E130," - ",F130),CONCATENATE(D130," - ",B130,", Art.Nr. ",E130," - ",F130)) -> FT100 - Aktiv-Felgenreiniger forte, Art.Nr. 540012 - Kanister, 25 l | I130: 1824 8; II; E | J130: GHS05 | N130: =IF(I130="kein Gefahrgut","./.",LEFT(I130,4)) -> 1824 | O130: 8 | P130: =IF(ISERROR(VLOOKUP(H130,$B$19:$J$28,9,0)),0,VLOOKUP(H130,$B$19:$J$28,9,0)) -> 0 | Q130: =IF($P130<>0,J130,0) -> 0 | R130: =IF($P130>=1,K130,0) -> 0 | S130: =IF($P130>=1,L130,0) -> 0 | T130: =IF($P130>=1,M130,0) -> 0 | U130: =IF($P130>=1,O130,0) -> 0
B131: Intensiv-Felgenreiniger forte | D131: FT101 | E131: 652212 | F131: Kanister, 25 l | H131: =IF(D131="",CONCATENATE(B131,", Art.Nr. ",E131," - ",F131),CONCATENATE(D131," - ",B131,", Art.Nr. ",E131," - ",F131)) -> FT101 - Intensiv-Felgenreiniger forte, Art.Nr. 652212 - Kanister, 25 l | I131: 3264, 8, II, E | J131: GHS05 | N131: =IF(I131="kein Gefahrgut","./.",LEFT(I131,4)) -> 3264 | O131: 8 | P131: =IF(ISERROR(VLOOKUP(H131,$B$19:$J$28,9,0)),0,VLOOKUP(H131,$B$19:$J$28,9,0)) -> 0 | Q131: =IF($P131<>0,J131,0) -> 0 | R131: =IF($P131>=1,K131,0) -> 0 | S131: =IF($P131>=1,L131,0) -> 0 | T131: =IF($P131>=1,M131,0) -> 0 | U131: =IF($P131>=1,O131,0) -> 0
B132: Aktiv Vorreiniger forte | D132: FT200 | E132: 656228 | F132: Faß, 200 l | H132: =IF(D132="",CONCATENATE(B132,", Art.Nr. ",E132," - ",F132),CONCATENATE(D132," - ",B132,", Art.Nr. ",E132," - ",F132)) -> FT200 - Aktiv Vorreiniger forte, Art.Nr. 656228 - Faß, 200 l | I132: 1719, 8, II, E | J132: GHS05 | N132: =IF(I132="kein Gefahrgut","./.",LEFT(I132,4)) -> 1719 | O132: 8 | P132: =IF(ISERROR(VLOOKUP(H132,$B$19:$J$28,9,0)),0,VLOOKUP(H132,$B$19:$J$28,9,0)) -> 0 | Q132: =IF($P132<>0,J132,0) -> 0 | R132: =IF($P132>=1,K132,0) -> 0 | S132: =IF($P132>=1,L132,0) -> 0 | T132: =IF($P132>=1,M132,0) -> 0 | U132: =IF($P132>=1,O132,0) -> 0
B133: Aktiv-Vorreiniger forte | D133: FT200 | E133: 656212 | F133: Kanister, 25 l | H133: =IF(D133="",CONCATENATE(B133,", Art.Nr. ",E133," - ",F133),CONCATENATE(D133," - ",B133,", Art.Nr. ",E133," - ",F133)) -> FT200 - Aktiv-Vorreiniger forte, Art.Nr. 656212 - Kanister, 25 l | I133: 1719, 8, II, E | J133: GHS05 | N133: =IF(I133="kein Gefahrgut","./.",LEFT(I133,4)) -> 1719 | O133: 8 | P133: =IF(ISERROR(VLOOKUP(H133,$B$19:$J$28,9,0)),0,VLOOKUP(H133,$B$19:$J$28,9,0)) -> 0 | Q133: =IF($P133<>0,J133,0) -> 0 | R133: =IF($P133>=1,K133,0) -> 0 | S133: =IF($P133>=1,L133,0) -> 0 | T133: =IF($P133>=1,M133,0) -> 0 | U133: =IF($P133>=1,O133,0) -> 0
B134: Vorreiniger PreClean Forte | D134: FT202 | E134: 666212 | F134: Kanister, 25 l | H134: =IF(D134="",CONCATENATE(B134,", Art.Nr. ",E134," - ",F134),CONCATENATE(D134," - ",B134,", Art.Nr. ",E134," - ",F134)) -> FT202 - Vorreiniger PreClean Forte, Art.Nr. 666212 - Kanister, 25 l | I134: 1814 8; II; E | J134: GHS05 | N134: =IF(I134="kein Gefahrgut","./.",LEFT(I134,4)) -> 1814 | O134: 8 | P134: =IF(ISERROR(VLOOKUP(H134,$B$19:$J$28,9,0)),0,VLOOKUP(H134,$B$19:$J$28,9,0)) -> 0 | Q134: =IF($P134<>0,J134,0) -> 0 | R134: =IF($P134>=1,K134,0) -> 0 | S134: =IF($P134>=1,L134,0) -> 0 | T134: =IF($P134>=1,M134,0) -> 0 | U134: =IF($P134>=1,O134,0) -> 0
B135: Vorreiniger PreClean Forte | D135: FT202 | E135: 666228 | F135: Faß, 200 l | H135: =IF(D135="",CONCATENATE(B135,", Art.Nr. ",E135," - ",F135),CONCATENATE(D135," - ",B135,", Art.Nr. ",E135," - ",F135)) -> FT202 - Vorreiniger PreClean Forte, Art.Nr. 666228 - Faß, 200 l | I135: 1814 8; II; E | J135: GHS05 | N135: =IF(I135="kein Gefahrgut","./.",LEFT(I135,4)) -> 1814 | O135: 8 | P135: =IF(ISERROR(VLOOKUP(H135,$B$19:$J$28,9,0)),0,VLOOKUP(H135,$B$19:$J$28,9,0)) -> 0 | Q135: =IF($P135<>0,J135,0) -> 0 | R135: =IF($P135>=1,K135,0) -> 0 | S135: =IF($P135>=1,L135,0) -> 0 | T135: =IF($P135>=1,M135,0) -> 0 | U135: =IF($P135>=1,O135,0) -> 0
B136: AcrylProtect forte | D136: FT500 | E136: 656712 | F136: Kanister, 25 l | H136: =IF(D136="",CONCATENATE(B136,", Art.Nr. ",E136," - ",F136),CONCATENATE(D136," - ",B136,", Art.Nr. ",E136," - ",F136)) -> FT500 - AcrylProtect forte, Art.Nr. 656712 - Kanister, 25 l | I136: Kein Gefahrgut | J136: GHS05 | N136: =IF(I136="kein Gefahrgut","./.",LEFT(I136,4)) -> ./. | O136: ./. | P136: =IF(ISERROR(VLOOKUP(H136,$B$19:$J$28,9,0)),0,VLOOKUP(H136,$B$19:$J$28,9,0)) -> 0 | Q136: =IF($P136<>0,J136,0) -> 0 | R136: =IF($P136>=1,K136,0) -> 0 | S136: =IF($P136>=1,L136,0) -> 0 | T136: =IF($P136>=1,M136,0) -> 0 | U136: =IF($P136>=1,O136,0) -> 0
B137: Schaumglanz forte | D137: FT501 | E137: 653512 | F137: Kanister, 25 l | H137: =IF(D137="",CONCATENATE(B137,", Art.Nr. ",E137," - ",F137),CONCATENATE(D137," - ",B137,", Art.Nr. ",E137," - ",F137)) -> FT501 - Schaumglanz forte, Art.Nr. 653512 - Kanister, 25 l | I137: Kein Gefahrgut | J137: GHS05 | N137: =IF(I137="kein Gefahrgut","./.",LEFT(I137,4)) -> ./. | O137: ./. | P137: =IF(ISERROR(VLOOKUP(H137,$B$19:$J$28,9,0)),0,VLOOKUP(H137,$B$19:$J$28,9,0)) -> 0 | Q137: =IF($P137<>0,J137,0) -> 0 | R137: =IF($P137>=1,K137,0) -> 0 | S137: =IF($P137>=1,L137,0) -> 0 | T137: =IF($P137>=1,M137,0) -> 0 | U137: =IF($P137>=1,O137,0) -> 0
B138: Glanzkonservierer forte | D138: FT502 | E138: 655512 | F138: Kanister, 25 l | H138: =IF(D138="",CONCATENATE(B138,", Art.Nr. ",E138," - ",F138),CONCATENATE(D138," - ",B138,", Art.Nr. ",E138," - ",F138)) -> FT502 - Glanzkonservierer forte, Art.Nr. 655512 - Kanister, 25 l | I138: Kein Gefahrgut | J138: GHS05 | N138: =IF(I138="kein Gefahrgut","./.",LEFT(I138,4)) -> ./. | O138: ./. | P138: =IF(ISERROR(VLOOKUP(H138,$B$19:$J$28,9,0)),0,VLOOKUP(H138,$B$19:$J$28,9,0)) -> 0 | Q138: =IF($P138<>0,J138,0) -> 0 | R138: =IF($P138>=1,K138,0) -> 0 | S138: =IF($P138>=1,L138,0) -> 0 | T138: =IF($P138>=1,M138,0) -> 0 | U138: =IF($P138>=1,O138,0) -> 0
B139: AcrylKonservierer „Protect & Dry“ | D139: FT504 | E139: 655912 | F139: Kanister, 25 l | H139: =IF(D139="",CONCATENATE(B139,", Art.Nr. ",E139," - ",F139),CONCATENATE(D139," - ",B139,", Art.Nr. ",E139," - ",F139)) -> FT504 - AcrylKonservierer „Protect & Dry“, Art.Nr. 655912 - Kanister, 25 l | I139: Kein Gefahrgut | J139: GHS05 | N139: =IF(I139="kein Gefahrgut","./.",LEFT(I139,4)) -> ./. | O139: ./. | P139: =IF(ISERROR(VLOOKUP(H139,$B$19:$J$28,9,0)),0,VLOOKUP(H139,$B$19:$J$28,9,0)) -> 0 | Q139: =IF($P139<>0,J139,0) -> 0 | R139: =IF($P139>=1,K139,0) -> 0 | S139: =IF($P139>=1,L139,0) -> 0 | T139: =IF($P139>=1,M139,0) -> 0 | U139: =IF($P139>=1,O139,0) -> 0
B140: Glanzpflege EasyShine | D140: FT505 | E140: 460210 | F140: Kanister, 10 l | H140: =IF(D140="",CONCATENATE(B140,", Art.Nr. ",E140," - ",F140),CONCATENATE(D140," - ",B140,", Art.Nr. ",E140," - ",F140)) -> FT505 - Glanzpflege EasyShine, Art.Nr. 460210 - Kanister, 10 l | I140: Kein Gefahrgut | J140: 0 | N140: =IF(I140="kein Gefahrgut","./.",LEFT(I140,4)) -> ./. | O140: ./. | P140: =IF(ISERROR(VLOOKUP(H140,$B$19:$J$28,9,0)),0,VLOOKUP(H140,$B$19:$J$28,9,0)) -> 0 | Q140: =IF($P140<>0,J140,0) -> 0 | R140: =IF($P140>=1,K140,0) -> 0 | S140: =IF($P140>=1,L140,0) -> 0 | T140: =IF($P140>=1,M140,0) -> 0 | U140: =IF($P140>=1,O140,0) -> 0
...

Sheet Abfallsammler
D1: Zuordnung Waschchemie - Abfallsammler "Bag-in-Box"
B5: Artikel Abfallsammler-Zuordnung | I5: UN-Nummer | J5: Abfallsammler
I6: =IF(ISERROR(VLOOKUP(B6,$H$27:$O$795,7,0)),"",VLOOKUP(B6,$H$27:$O$795,7,0)) | J6: =IF(ISERROR(VLOOKUP(B6,$H$27:$P$795,9,0)),"",VLOOKUP(B6,$H$27:$P$795,9,0))
I7: =IF(ISERROR(VLOOKUP(B7,$H$27:$O$795,7,0)),"",VLOOKUP(B7,$H$27:$O$795,7,0)) | J7: =IF(ISERROR(VLOOKUP(B7,$H$27:$P$795,9,0)),"",VLOOKUP(B7,$H$27:$P$795,9,0))
I8: =IF(ISERROR(VLOOKUP(B8,$H$27:$O$795,7,0)),"",VLOOKUP(B8,$H$27:$O$795,7,0)) | J8: =IF(ISERROR(VLOOKUP(B8,$H$27:$P$795,9,0)),"",VLOOKUP(B8,$H$27:$P$795,9,0))
I9: =IF(ISERROR(VLOOKUP(B9,$H$27:$O$795,7,0)),"",VLOOKUP(B9,$H$27:$O$795,7,0)) | J9: =IF(ISERROR(VLOOKUP(B9,$H$27:$P$795,9,0)),"",VLOOKUP(B9,$H$27:$P$795,9,0))
I10: =IF(ISERROR(VLOOKUP(B10,$H$27:$O$795,7,0)),"",VLOOKUP(B10,$H$27:$O$795,7,0)) | J10: =IF(ISERROR(VLOOKUP(B10,$H$27:$P$795,9,0)),"",VLOOKUP(B10,$H$27:$P$795,9,0))
I11: =IF(ISERROR(VLOOKUP(B11,$H$27:$O$795,7,0)),"",VLOOKUP(B11,$H$27:$O$795,7,0)) | J11: =IF(ISERROR(VLOOKUP(B11,$H$27:$P$795,9,0)),"",VLOOKUP(B11,$H$27:$P$795,9,0))
I12: =IF(ISERROR(VLOOKUP(B12,$H$27:$O$795,7,0)),"",VLOOKUP(B12,$H$27:$O$795,7,0)) | J12: =IF(ISERROR(VLOOKUP(B12,$H$27:$P$795,9,0)),"",VLOOKUP(B12,$H$27:$P$795,9,0))
I13: =IF(ISERROR(VLOOKUP(B13,$H$27:$O$795,7,0)),"",VLOOKUP(B13,$H$27:$O$795,7,0)) | J13: =IF(ISERROR(VLOOKUP(B13,$H$27:$P$795,9,0)),"",VLOOKUP(B13,$H$27:$P$795,9,0))
J14: =IF(ISERROR(VLOOKUP(B14,$H$27:$P$795,9,0)),"",VLOOKUP(B14,$H$27:$P$795,9,0))
I15: =IF(ISERROR(VLOOKUP(B15,$H$27:$O$795,7,0)),"",VLOOKUP(B15,$H$27:$O$795,7,0)) | J15: =IF(ISERROR(VLOOKUP(B15,$H$27:$P$795,9,0)),"",VLOOKUP(B15,$H$27:$P$795,9,0))
B17: benötigte Abfallsammler:
B18: =IF(B20="GHS05 mit ADR 8",1,0) -> 0 | C18: =IF(B20="GHS05 mit ADR 8", 2,0) -> 0 | E18: =IF(E20="GHS05",3,0) -> 0 | G18: =IF(G20="GHS07", 4,0) -> 0 | I18: Sie benötigen für Ihre Anlage:
I19: =IF(SUM(B18:G18)=0,"",IF(SUM(B18:G18)<=4,1,IF(OR(SUM(B18:G18)=6,SUM(B18:G18)=7),2,IF(SUM(B18:G18)=10,3,"")))) | J19: unterschiedliche Abfallsammler für den Innenbeutel des "Bag-in-Box"-Systems
B20: =IF(COUNTIF(J6:K15,"GHS05 mit ADR 8")>=1,"GHS05 mit ADR 8","") | E20: =IF(COUNTIF(J6:K15,"GHS05")>=1,"GHS05","") | G20: =IF(COUNTIF(J6:K15,"GHS07")>=1,"GHS07","")
I25: Stammdaten | Q25: Formeln
B26: Produkt | D26: techn. Kürzel | E26: Art.-Nr. | F26: Inhalt | H26: Dropdown | I26: Produkt-klasse | J26: GHS 1 | K26: GHS 2 | L26: GHS 3 | M26: GHS 4 | N26: UN-Nummer | O26: ADR | P26: Abfallsammler | Q26: Anzahl | R26: GHS 1 | S26: GHS 2 | T26: GHS 3 | U26: GHS 4 | V26: ADR
B27: Aktiv Vorreiniger ALPHA | D27: A200 | E27: 662142 | F27: Bag-in-Box, 20 l | H27: =IF(D27="",CONCATENATE(B27,", Art.Nr. ",E27," - ",F27),CONCATENATE(D27," - ",B27,", Art.Nr. ",E27," - ",F27)) -> A200 - Aktiv Vorreiniger ALPHA, Art.Nr. 662142 - Bag-in-Box, 20 l | I27: 1719, 8, II, E | J27: GHS05 | K27: GHS07 | N27: =IF(I27="kein Gefahrgut","./.",LEFT(I27,4)) -> 1719 | O27: 8 | P27: GHS05 mit ADR 8 | Q27: =IF(ISERROR(VLOOKUP(H27,$B$6:$J$15,9,0)),0,VLOOKUP(H27,$B$6:$J$15,9,0)) -> 0 | R27: =IF($Q27<>0,J27,0) -> 0 | S27: =IF($Q27>=1,K27,0) -> 0 | T27: =IF($Q27>=1,L27,0) -> 0 | U27: =IF($Q27>=1,M27,0) -> 0 | V27: =IF($Q27>=1,O27,0) -> 0
B28: Duftschaum ALPHA | D28: A300 | E28: 663242 | F28: Bag-in-Box, 20 l | H28: =IF(D28="",CONCATENATE(B28,", Art.Nr. ",E28," - ",F28),CONCATENATE(D28," - ",B28,", Art.Nr. ",E28," - ",F28)) -> A300 - Duftschaum ALPHA, Art.Nr. 663242 - Bag-in-Box, 20 l | I28: Kein Gefahrgut | J28: GHS05 | N28: =IF(I28="kein Gefahrgut","./.",LEFT(I28,4)) -> ./. | O28: ./. | P28: GHS05 | Q28: =IF(ISERROR(VLOOKUP(H28,$B$6:$J$15,9,0)),0,VLOOKUP(H28,$B$6:$J$15,9,0)) -> 0 | R28: =IF($Q28<>0,J28,0) -> 0 | S28: =IF($Q28>=1,K28,0) -> 0 | T28: =IF($Q28>=1,L28,0) -> 0 | U28: =IF($Q28>=1,M28,0) -> 0 | V28: =IF($Q28>=1,O28,0) -> 0
B29: SB-Schaum ALPHA | D29: A301 | E29: 310642 | F29: Bag-in-Box, 20 l | H29: =IF(D29="",CONCATENATE(B29,", Art.Nr. ",E29," - ",F29),CONCATENATE(D29," - ",B29,", Art.Nr. ",E29," - ",F29)) -> A301 - SB-Schaum ALPHA, Art.Nr. 310642 - Bag-in-Box, 20 l | I29: Kein Gefahrgut | J29: GHS05 | N29: =IF(I29="kein Gefahrgut","./.",LEFT(I29,4)) -> ./. | O29: ./. | P29: GHS05 | Q29: =IF(ISERROR(VLOOKUP(H29,$B$6:$J$15,9,0)),0,VLOOKUP(H29,$B$6:$J$15,9,0)) -> 0 | R29: =IF($Q29<>0,J29,0) -> 0 | S29: =IF($Q29>=1,K29,0) -> 0 | T29: =IF($Q29>=1,L29,0) -> 0 | U29: =IF($Q29>=1,M29,0) -> 0 | V29: =IF($Q29>=1,O29,0) -> 0
B30: Intensiv Shampoo ALPHA | D30: A400 | E30: 660142 | F30: Bag-in-Box, 20 l | H30: =IF(D30="",CONCATENATE(B30,", Art.Nr. ",E30," - ",F30),CONCATENATE(D30," - ",B30,", Art.Nr. ",E30," - ",F30)) -> A400 - Intensiv Shampoo ALPHA, Art.Nr. 660142 - Bag-in-Box, 20 l | I30: Kein Gefahrgut | J30: GHS05 | N30: =IF(I30="kein Gefahrgut","./.",LEFT(I30,4)) -> ./. | O30: ./. | P30: GHS05 | Q30: =IF(ISERROR(VLOOKUP(H30,$B$6:$J$15,9,0)),0,VLOOKUP(H30,$B$6:$J$15,9,0)) -> 0 | R30: =IF($Q30<>0,J30,0) -> 0 | S30: =IF($Q30>=1,K30,0) -> 0 | T30: =IF($Q30>=1,L30,0) -> 0 | U30: =IF($Q30>=1,M30,0) -> 0 | V30: =IF($Q30>=1,O30,0) -> 0
B31: Schaumglanzpolitur ALPHA | D31: A500 | E31: 665342 | F31: Bag-in-Box, 20 l | H31: =IF(D31="",CONCATENATE(B31,", Art.Nr. ",E31," - ",F31),CONCATENATE(D31," - ",B31,", Art.Nr. ",E31," - ",F31)) -> A500 - Schaumglanzpolitur ALPHA, Art.Nr. 665342 - Bag-in-Box, 20 l | I31: Kein Gefahrgut | J31: GHS05 | N31: =IF(I31="kein Gefahrgut","./.",LEFT(I31,4)) -> ./. | O31: ./. | P31: GHS05 | Q31: =IF(ISERROR(VLOOKUP(H31,$B$6:$J$15,9,0)),0,VLOOKUP(H31,$B$6:$J$15,9,0)) -> 0 | R31: =IF($Q31<>0,J31,0) -> 0 | S31: =IF($Q31>=1,K31,0) -> 0 | T31: =IF($Q31>=1,L31,0) -> 0 | U31: =IF($Q31>=1,M31,0) -> 0 | V31: =IF($Q31>=1,O31,0) -> 0
B32: Glanzkonservierer ALPHA | D32: A501 | E32: 665442 | F32: Bag-in-Box, 20 l | H32: =IF(D32="",CONCATENATE(B32,", Art.Nr. ",E32," - ",F32),CONCATENATE(D32," - ",B32,", Art.Nr. ",E32," - ",F32)) -> A501 - Glanzkonservierer ALPHA, Art.Nr. 665442 - Bag-in-Box, 20 l | I32: Kein Gefahrgut | J32: GHS05 | N32: =IF(I32="kein Gefahrgut","./.",LEFT(I32,4)) -> ./. | O32: ./. | P32: GHS05 | Q32: =IF(ISERROR(VLOOKUP(H32,$B$6:$J$15,9,0)),0,VLOOKUP(H32,$B$6:$J$15,9,0)) -> 0 | R32: =IF($Q32<>0,J32,0) -> 0 | S32: =IF($Q32>=1,K32,0) -> 0 | T32: =IF($Q32>=1,L32,0) -> 0 | U32: =IF($Q32>=1,M32,0) -> 0 | V32: =IF($Q32>=1,O32,0) -> 0
B33: Glanztrockner ALPHA | D33: A600 | E33: 670842 | F33: Bag-in-Box, 20 l | H33: =IF(D33="",CONCATENATE(B33,", Art.Nr. ",E33," - ",F33),CONCATENATE(D33," - ",B33,", Art.Nr. ",E33," - ",F33)) -> A600 - Glanztrockner ALPHA, Art.Nr. 670842 - Bag-in-Box, 20 l | I33: Kein Gefahrgut | J33: GHS05 | N33: =IF(I33="kein Gefahrgut","./.",LEFT(I33,4)) -> ./. | O33: ./. | P33: GHS05 | Q33: =IF(ISERROR(VLOOKUP(H33,$B$6:$J$15,9,0)),0,VLOOKUP(H33,$B$6:$J$15,9,0)) -> 0 | R33: =IF($Q33<>0,J33,0) -> 0 | S33: =IF($Q33>=1,K33,0) -> 0 | T33: =IF($Q33>=1,L33,0) -> 0 | U33: =IF($Q33>=1,M33,0) -> 0 | V33: =IF($Q33>=1,O33,0) -> 0
B34: Schaum Basic | D34: B300 | E34: 530142 | F34: Bag-in-Box, 20 l | H34: =IF(D34="",CONCATENATE(B34,", Art.Nr. ",E34," - ",F34),CONCATENATE(D34," - ",B34,", Art.Nr. ",E34," - ",F34)) -> B300 - Schaum Basic, Art.Nr. 530142 - Bag-in-Box, 20 l | I34: Kein Gefahrgut | J34: GHS07 | N34: =IF(I34="kein Gefahrgut","./.",LEFT(I34,4)) -> ./. | O34: ./. | P34: GHS07 | Q34: =IF(ISERROR(VLOOKUP(H34,$B$6:$J$15,9,0)),0,VLOOKUP(H34,$B$6:$J$15,9,0)) -> 0 | R34: =IF($Q34<>0,J34,0) -> 0 | S34: =IF($Q34>=1,K34,0) -> 0 | T34: =IF($Q34>=1,L34,0) -> 0 | U34: =IF($Q34>=1,M34,0) -> 0 | V34: =IF($Q34>=1,O34,0) -> 0
B35: SB-Schaum EVENTUM | D35: EV300 | E35: 525342 | F35: Bag-in-Box, 20 l | H35: =IF(D35="",CONCATENATE(B35,", Art.Nr. ",E35," - ",F35),CONCATENATE(D35," - ",B35,", Art.Nr. ",E35," - ",F35)) -> EV300 - SB-Schaum EVENTUM , Art.Nr. 525342 - Bag-in-Box, 20 l | I35: Kein Gefahrgut | J35: GHS07 | N35: =IF(I35="kein Gefahrgut","./.",LEFT(I35,4)) -> ./. | O35: ./. | P35: GHS07 | Q35: =IF(ISERROR(VLOOKUP(H35,$B$6:$J$15,9,0)),0,VLOOKUP(H35,$B$6:$J$15,9,0)) -> 0 | R35: =IF($Q35<>0,J35,0) -> 0 | S35: =IF($Q35>=1,K35,0) -> 0 | T35: =IF($Q35>=1,L35,0) -> 0 | U35: =IF($Q35>=1,M35,0) -> 0 | V35: =IF($Q35>=1,O35,0) -> 0
B36: Fosgalon TC Multi | D36: FO913 | E36: 541142 | F36: Bag-in-Box, 20 l | H36: =IF(D36="",CONCATENATE(B36,", Art.Nr. ",E36," - ",F36),CONCATENATE(D36," - ",B36,", Art.Nr. ",E36," - ",F36)) -> FO913 - Fosgalon TC Multi, Art.Nr. 541142 - Bag-in-Box, 20 l | I36: 1824 8; II; E | J36: GHS05 | N36: =IF(I36="kein Gefahrgut","./.",LEFT(I36,4)) -> 1824 | O36: 8 | P36: GHS05 mit ADR 8 | Q36: =IF(ISERROR(VLOOKUP(H36,$B$6:$J$15,9,0)),0,VLOOKUP(H36,$B$6:$J$15,9,0)) -> 0 | R36: =IF($Q36<>0,J36,0) -> 0 | S36: =IF($Q36>=1,K36,0) -> 0 | T36: =IF($Q36>=1,L36,0) -> 0 | U36: =IF($Q36>=1,M36,0) -> 0 | V36: =IF($Q36>=1,O36,0) -> 0
B37: Aktiv-Felgenreiniger forte | D37: FT100 | E37: 540042 | F37: Bag-in-Box, 20 l | H37: =IF(D37="",CONCATENATE(B37,", Art.Nr. ",E37," - ",F37),CONCATENATE(D37," - ",B37,", Art.Nr. ",E37," - ",F37)) -> FT100 - Aktiv-Felgenreiniger forte, Art.Nr. 540042 - Bag-in-Box, 20 l | I37: 1824 8; II; E | J37: GHS05 | N37: =IF(I37="kein Gefahrgut","./.",LEFT(I37,4)) -> 1824 | O37: 8 | P37: GHS05 mit ADR 8 | Q37: =IF(ISERROR(VLOOKUP(H37,$B$6:$J$15,9,0)),0,VLOOKUP(H37,$B$6:$J$15,9,0)) -> 0 | R37: =IF($Q37<>0,J37,0) -> 0 | S37: =IF($Q37>=1,K37,0) -> 0 | T37: =IF($Q37>=1,L37,0) -> 0 | U37: =IF($Q37>=1,M37,0) -> 0 | V37: =IF($Q37>=1,O37,0) -> 0
B38: Aktiv-Vorreiniger forte | D38: FT200 | E38: 656242 | F38: Bag-in-Box, 20 l | H38: =IF(D38="",CONCATENATE(B38,", Art.Nr. ",E38," - ",F38),CONCATENATE(D38," - ",B38,", Art.Nr. ",E38," - ",F38)) -> FT200 - Aktiv-Vorreiniger forte, Art.Nr. 656242 - Bag-in-Box, 20 l | I38: 1719, 8, II, E | J38: GHS05 | N38: =IF(I38="kein Gefahrgut","./.",LEFT(I38,4)) -> 1719 | O38: 8 | P38: GHS05 mit ADR 8 | Q38: =IF(ISERROR(VLOOKUP(H38,$B$6:$J$15,9,0)),0,VLOOKUP(H38,$B$6:$J$15,9,0)) -> 0 | R38: =IF($Q38<>0,J38,0) -> 0 | S38: =IF($Q38>=1,K38,0) -> 0 | T38: =IF($Q38>=1,L38,0) -> 0 | U38: =IF($Q38>=1,M38,0) -> 0 | V38: =IF($Q38>=1,O38,0) -> 0
B39: AcrylProtect forte | D39: FT500 | E39: 656742 | F39: Bag-in-Box, 20 l | H39: =IF(D39="",CONCATENATE(B39,", Art.Nr. ",E39," - ",F39),CONCATENATE(D39," - ",B39,", Art.Nr. ",E39," - ",F39)) -> FT500 - AcrylProtect forte, Art.Nr. 656742 - Bag-in-Box, 20 l | I39: Kein Gefahrgut | J39: GHS05 | N39: =IF(I39="kein Gefahrgut","./.",LEFT(I39,4)) -> ./. | O39: ./. | P39: GHS05 | Q39: =IF(ISERROR(VLOOKUP(H39,$B$6:$J$15,9,0)),0,VLOOKUP(H39,$B$6:$J$15,9,0)) -> 0 | R39: =IF($Q39<>0,J39,0) -> 0 | S39: =IF($Q39>=1,K39,0) -> 0 | T39: =IF($Q39>=1,L39,0) -> 0 | U39: =IF($Q39>=1,M39,0) -> 0 | V39: =IF($Q39>=1,O39,0) -> 0
B40: AcrylKonservierer „Protect & Dry“ | D40: FT504 | E40: 655942 | F40: Bag-in-Box, 20 l | H40: =IF(D40="",CONCATENATE(B40,", Art.Nr. ",E40," - ",F40),CONCATENATE(D40," - ",B40,", Art.Nr. ",E40," - ",F40)) -> FT504 - AcrylKonservierer „Protect & Dry“, Art.Nr. 655942 - Bag-in-Box, 20 l | I40: Kein Gefahrgut | J40: GHS05 | N40: =IF(I40="kein Gefahrgut","./.",LEFT(I40,4)) -> ./. | O40: ./. | P40: GHS05 | Q40: =IF(ISERROR(VLOOKUP(H40,$B$6:$J$15,9,0)),0,VLOOKUP(H40,$B$6:$J$15,9,0)) -> 0 | R40: =IF($Q40<>0,J40,0) -> 0 | S40: =IF($Q40>=1,K40,0) -> 0 | T40: =IF($Q40>=1,L40,0) -> 0 | U40: =IF($Q40>=1,M40,0) -> 0 | V40: =IF($Q40>=1,O40,0) -> 0
B41: Neutral-Shampoo Plus | D41: P401 | E41: 650142 | F41: Bag-in-Box, 20 l | H41: =IF(D41="",CONCATENATE(B41,", Art.Nr. ",E41," - ",F41),CONCATENATE(D41," - ",B41,", Art.Nr. ",E41," - ",F41)) -> P401 - Neutral-Shampoo Plus, Art.Nr. 650142 - Bag-in-Box, 20 l | I41: Kein Gefahrgut | J41: GHS05 | N41: =IF(I41="kein Gefahrgut","./.",LEFT(I41,4)) -> ./. | O41: ./. | P41: GHS05 | Q41: =IF(ISERROR(VLOOKUP(H41,$B$6:$J$15,9,0)),0,VLOOKUP(H41,$B$6:$J$15,9,0)) -> 0 | R41: =IF($Q41<>0,J41,0) -> 0 | S41: =IF($Q41>=1,K41,0) -> 0 | T41: =IF($Q41>=1,L41,0) -> 0 | U41: =IF($Q41>=1,M41,0) -> 0 | V41: =IF($Q41>=1,O41,0) -> 0
B42: Glanztrockner Perlution | D42: PL602 | E42: 665142 | F42: Bag-in-Box, 20 l | H42: =IF(D42="",CONCATENATE(B42,", Art.Nr. ",E42," - ",F42),CONCATENATE(D42," - ",B42,", Art.Nr. ",E42," - ",F42)) -> PL602 - Glanztrockner Perlution, Art.Nr. 665142 - Bag-in-Box, 20 l | I42: Kein Gefahrgut | J42: GHS05 | N42: =IF(I42="kein Gefahrgut","./.",LEFT(I42,4)) -> ./. | O42: ./. | P42: GHS05 | Q42: =IF(ISERROR(VLOOKUP(H42,$B$6:$J$15,9,0)),0,VLOOKUP(H42,$B$6:$J$15,9,0)) -> 0 | R42: =IF($Q42<>0,J42,0) -> 0 | S42: =IF($Q42>=1,K42,0) -> 0 | T42: =IF($Q42>=1,L42,0) -> 0 | U42: =IF($Q42>=1,M42,0) -> 0 | V42: =IF($Q42>=1,O42,0) -> 0
B43: Duftschaum PowerPlus-Naranja | D43: PP300 | E43: 651742 | F43: Bag-in-Box, 20 l | H43: =IF(D43="",CONCATENATE(B43,", Art.Nr. ",E43," - ",F43),CONCATENATE(D43," - ",B43,", Art.Nr. ",E43," - ",F43)) -> PP300 - Duftschaum PowerPlus-Naranja, Art.Nr. 651742 - Bag-in-Box, 20 l | I43: Kein Gefahrgut | J43: GHS05 | N43: =IF(I43="kein Gefahrgut","./.",LEFT(I43,4)) -> ./. | O43: ./. | P43: GHS05 | Q43: =IF(ISERROR(VLOOKUP(H43,$B$6:$J$15,9,0)),0,VLOOKUP(H43,$B$6:$J$15,9,0)) -> 0 | R43: =IF($Q43<>0,J43,0) -> 0 | S43: =IF($Q43>=1,K43,0) -> 0 | T43: =IF($Q43>=1,L43,0) -> 0 | U43: =IF($Q43>=1,M43,0) -> 0 | V43: =IF($Q43>=1,O43,0) -> 0
B44: Duftschaum Power Plus - Duftnote „Magnolia“ | D44: PP301 | E44: 654442 | F44: Bag-in-Box, 20 l | H44: =IF(D44="",CONCATENATE(B44,", Art.Nr. ",E44," - ",F44),CONCATENATE(D44," - ",B44,", Art.Nr. ",E44," - ",F44)) -> PP301 - Duftschaum Power Plus - Duftnote „Magnolia“ , Art.Nr. 654442 - Bag-in-Box, 20 l | I44: Kein Gefahrgut | J44: GHS05 | N44: =IF(I44="kein Gefahrgut","./.",LEFT(I44,4)) -> ./. | O44: ./. | P44: GHS05 | Q44: =IF(ISERROR(VLOOKUP(H44,$B$6:$J$15,9,0)),0,VLOOKUP(H44,$B$6:$J$15,9,0)) -> 0 | R44: =IF($Q44<>0,J44,0) -> 0 | S44: =IF($Q44>=1,K44,0) -> 0 | T44: =IF($Q44>=1,L44,0) -> 0 | U44: =IF($Q44>=1,M44,0) -> 0 | V44: =IF($Q44>=1,O44,0) -> 0
B45: Duftschaum Power Plus - Duftnote „Fresh & fruity“ | D45: PP302 | E45: 651542 | F45: Bag-in-Box, 20 l | H45: =IF(D45="",CONCATENATE(B45,", Art.Nr. ",E45," - ",F45),CONCATENATE(D45," - ",B45,", Art.Nr. ",E45," - ",F45)) -> PP302 - Duftschaum Power Plus - Duftnote „Fresh & fruity“ , Art.Nr. 651542 - Bag-in-Box, 20 l | I45: Kein Gefahrgut | J45: GHS05 | N45: =IF(I45="kein Gefahrgut","./.",LEFT(I45,4)) -> ./. | O45: ./. | P45: GHS05 | Q45: =IF(ISERROR(VLOOKUP(H45,$B$6:$J$15,9,0)),0,VLOOKUP(H45,$B$6:$J$15,9,0)) -> 0 | R45: =IF($Q45<>0,J45,0) -> 0 | S45: =IF($Q45>=1,K45,0) -> 0 | T45: =IF($Q45>=1,L45,0) -> 0 | U45: =IF($Q45>=1,M45,0) -> 0 | V45: =IF($Q45>=1,O45,0) -> 0 | AH45: Zeile | AI45: GHS
B46: Duftschaum Power Plus - Duftnote „Fühlingsduft“ | D46: PP304 | E46: 652342 | F46: Bag-in-Box, 20 l | H46: =IF(D46="",CONCATENATE(B46,", Art.Nr. ",E46," - ",F46),CONCATENATE(D46," - ",B46,", Art.Nr. ",E46," - ",F46)) -> PP304 - Duftschaum Power Plus - Duftnote „Fühlingsduft“ , Art.Nr. 652342 - Bag-in-Box, 20 l | I46: Kein Gefahrgut | J46: GHS05 | N46: =IF(I46="kein Gefahrgut","./.",LEFT(I46,4)) -> ./. | O46: ./. | P46: GHS05 | Q46: =IF(ISERROR(VLOOKUP(H46,$B$6:$J$15,9,0)),0,VLOOKUP(H46,$B$6:$J$15,9,0)) -> 0 | R46: =IF($Q46<>0,J46,0) -> 0 | S46: =IF($Q46>=1,K46,0) -> 0 | T46: =IF($Q46>=1,L46,0) -> 0 | U46: =IF($Q46>=1,M46,0) -> 0 | V46: =IF($Q46>=1,O46,0) -> 0 | AH46: 46 | AI46: leer
B47: Duftschaum Power Plus - Duftnote „Winterduft“ | D47: PP305 | E47: 650242 | F47: Bag-in-Box, 20 l | H47: =IF(D47="",CONCATENATE(B47,", Art.Nr. ",E47," - ",F47),CONCATENATE(D47," - ",B47,", Art.Nr. ",E47," - ",F47)) -> PP305 - Duftschaum Power Plus - Duftnote „Winterduft“ , Art.Nr. 650242 - Bag-in-Box, 20 l | I47: Kein Gefahrgut | J47: GHS05 | N47: =IF(I47="kein Gefahrgut","./.",LEFT(I47,4)) -> ./. | O47: ./. | P47: GHS05 | Q47: =IF(ISERROR(VLOOKUP(H47,$B$6:$J$15,9,0)),0,VLOOKUP(H47,$B$6:$J$15,9,0)) -> 0 | R47: =IF($Q47<>0,J47,0) -> 0 | S47: =IF($Q47>=1,K47,0) -> 0 | T47: =IF($Q47>=1,L47,0) -> 0 | U47: =IF($Q47>=1,M47,0) -> 0 | V47: =IF($Q47>=1,O47,0) -> 0 | AH47: 47 | AI47: 1
B48: Vorreiniger Red Berry | D48: SP203 | E48: 666942 | F48: Bag-in-Box, 20 l | H48: =IF(D48="",CONCATENATE(B48,", Art.Nr. ",E48," - ",F48),CONCATENATE(D48," - ",B48,", Art.Nr. ",E48," - ",F48)) -> SP203 - Vorreiniger Red Berry, Art.Nr. 666942 - Bag-in-Box, 20 l | I48: 3267 8;II; E | J48: GHS05 | N48: =IF(I48="kein Gefahrgut","./.",LEFT(I48,4)) -> 3267 | O48: 8 | P48: GHS05 mit ADR 8 | Q48: =IF(ISERROR(VLOOKUP(H48,$B$6:$J$15,9,0)),0,VLOOKUP(H48,$B$6:$J$15,9,0)) -> 0 | R48: =IF($Q48<>0,J48,0) -> 0 | S48: =IF($Q48>=1,K48,0) -> 0 | T48: =IF($Q48>=1,L48,0) -> 0 | U48: =IF($Q48>=1,M48,0) -> 0 | V48: =IF($Q48>=1,O48,0) -> 0 | AH48: 48 | AI48: 2
B49: Intensiv Shampoo S | D49: SP400 | E49: 650942 | F49: Bag-in-Box, 20 l | H49: =IF(D49="",CONCATENATE(B49,", Art.Nr. ",E49," - ",F49),CONCATENATE(D49," - ",B49,", Art.Nr. ",E49," - ",F49)) -> SP400 - Intensiv Shampoo S, Art.Nr. 650942 - Bag-in-Box, 20 l | I49: Kein Gefahrgut | J49: GHS07 | N49: =IF(I49="kein Gefahrgut","./.",LEFT(I49,4)) -> ./. | O49: ./. | P49: GHS07 | Q49: =IF(ISERROR(VLOOKUP(H49,$B$6:$J$15,9,0)),0,VLOOKUP(H49,$B$6:$J$15,9,0)) -> 0 | R49: =IF($Q49<>0,J49,0) -> 0 | S49: =IF($Q49>=1,K49,0) -> 0 | T49: =IF($Q49>=1,L49,0) -> 0 | U49: =IF($Q49>=1,M49,0) -> 0 | V49: =IF($Q49>=1,O49,0) -> 0 | AH49: 49 | AI49: 3
AH50: 50 | AI50: 4
