Workbook
Name GHS_Platz1: INDIRECT("Abfallsammler!AG" & Abfallsammler!$B$18+46)
Name GHS_Platz2: INDIRECT("Abfallsammler!AG" & Abfallsammler!$C$18+46)
Name GHS_Platz3: INDIRECT("Abfallsammler!AG" & Abfallsammler!$E$18+46)
Name GHS_Platz4: INDIRECT("Abfallsammler!AG" & Abfallsammler!$G$18+46)

Sheet Abholauftrag
D1: Abholauftrag restentleerte Verpackungen
B4: Anfallstelle / Abfallerzeuger-Nr. | I4: Zurück an Interzero Hotline:
I5: Fax: 02203/9147-1390
I6: dr.stoecker@interzero.de
B8: Firma | H8: Ansprechpartner
B11: Straße | H11: Telefonnummer
B14: PLZ, Ort | H14: Fax
B18: Artikel & Gebindevariante (bitte Auswahl treffen) | I18: UN-Nummer | J18: Anzahl
I19: =IF(ISERROR(VLOOKUP(B19,$H$91:$O$945,7,0)),"",VLOOKUP(B19,$H$91:$O$945,7,0))
I20: =IF(ISERROR(VLOOKUP(B20,$H$91:$O$945,7,0)),"",VLOOKUP(B20,$H$91:$O$945,7,0))
I21: =IF(ISERROR(VLOOKUP(B21,$H$91:$O$945,7,0)),"",VLOOKUP(B21,$H$91:$O$945,7,0))
I22: =IF(ISERROR(VLOOKUP(B22,$H$91:$O$945,7,0)),"",VLOOKUP(B22,$H$91:$O$945,7,0))
I23: =IF(ISERROR(VLOOKUP(B23,$H$91:$O$945,7,0)),"",VLOOKUP(B23,$H$91:$O$945,7,0))
I24: =IF(ISERROR(VLOOKUP(B24,$H$91:$O$945,7,0)),"",VLOOKUP(B24,$H$91:$O$945,7,0))
I25: =IF(ISERROR(VLOOKUP(B25,$H$91:$O$945,7,0)),"",VLOOKUP(B25,$H$91:$O$945,7,0))
I26: =IF(ISERROR(VLOOKUP(B26,$H$91:$O$945,7,0)),"",VLOOKUP(B26,$H$91:$O$945,7,0))
I28: =IF(ISERROR(VLOOKUP(B28,$H$91:$O$945,7,0)),"",VLOOKUP(B28,$H$91:$O$945,7,0))
B30: =IF(COUNTIF(B33:J33,"T")>=1,"£","T") -> T | C30: =IF(B30="T","kein Gefahrgut","Gefahrgut:") -> kein Gefahrgut
B31: 3 | C31: 4 | D31: 4.2 | E31: 4.3 | F31: 5.1 | G31: 5.2 | H31: 6 | I31: 8 | J31: 9
B33: =IF(COUNTIF(U91:U946,Abholauftrag!B31)>=1,"T","£") -> £ | C33: =IF(COUNTIF(U91:U946,Abholauftrag!C31)>=1,"T","£") -> £ | D33: =IF(COUNTIF(U91:U946,Abholauftrag!D31)>=1,"T","£") -> £ | E33: =IF(COUNTIF(U91:U946,Abholauftrag!E31)>=1,"T","£") -> £ | F33: =IF(COUNTIF(U91:U946,Abholauftrag!F31)>=1,"T","£") -> £ | G33: =IF(COUNTIF(U91:U946,Abholauftrag!G31)>=1,"T","£") -> £ | H33: =IF(COUNTIF(U91:U946,Abholauftrag!H31)>=1,"T","£") -> £ | I33: =IF(COUNTIF(U91:U946,Abholauftrag!I31)>=1,"T","£") -> £ | J33: =IF(COUNTIF(U91:U946,Abholauftrag!J31)>=1,"T","£") -> £ | K33: =IF(I38="T","T","£") -> £
B36: GHS01 | C36: GHS02 | D36: GHS03 | E36: GHS05 | F36: GHS06 | G36: GHS07 | H36: GHS08 | I36: GHS09
B38: =IF(COUNTIF(Q91:T946,B36)>=1,"T","£") -> £ | C38: =IF(COUNTIF(Q91:T946,C36)>=1,"T","£") -> £ | D38: =IF(COUNTIF(Q91:T946,D36)>=1,"T","£") -> £ | E38: =IF(COUNTIF(Q91:T946,E36)>=1,"T","£") -> £ | F38: =IF(COUNTIF(Q91:T946,F36)>=1,"T","£") -> £ | G38: =IF(COUNTIF(Q91:T946,G36)>=1,"T","£") -> £ | H38: =IF(COUNTIF(Q91:T946,H36)>=1,"T","£") -> £ | I38: =IF(COUNTIF(Q91:T946,I36)>=1,"T","£") -> £
B40: Bitte beachten Sie:
B41: Sie sind der Abfallerzeuger und daher auch entsprechend verantwortlich für die ordnungsgemäße Übergabe der Abfälle. Interzero ist berechtigt, die Annahme der Abfallstoffe, die nicht gemäß den Interzero Übernahmekriterien übergeben werden, zu verweigern bzw. an den Abfallerzeuger zurückzuführen oder aber einer ordnungsgemäßen Verwertung/Beseitigung zuzuführen und dem Abfallerzeuger diese Dienstleistung in Rechnung zu stellen.
B42: Bitte melden Sie die Entsorgung mit entsprechendem Vorlauf an.
B43: Abholungen erfolgen binnen 10 Werktagen. Den genauen Termin der Abholung stimmen Sie bitte mit Ihrem benannten Entsorgungspartner ab.
B44: In der Regel erfolgt die Übernahme der bereitgestellten Behälter in loser Form oder aber entsprechend den Vorgaben Ihres benannten Entsorgungspartners. Sollten Sie spezielle Wünsche zu einem Sammelbhälter/-system haben, ist dies bitte direkt mit dem benannten Entsorgungspartner abzustimmen. Die dafür eventuell anfallenden Mehrkosten sind von Ihnen zu tragen.
B45: Die Gebinde müssen restentleert sein, d.h. pinsel-/spachtelrein, riesel-/tropffrei und frei von Fremdanhaftungen. Leere ungereinigte Verpackungen, die Gefahrgüter enthalten haben, unterliegen dem Gefahrgutrecht. Die Gebinde müssen verschlossen und die Gefahrgutkennzeichnung (Raute) darf nicht entfernt werden.
B46: Bitte die restentleerten Gebinde ebenerdig, witterungsgeschützt und frei zugänglich zum direkten Verladen bereitstellen. Bei der Abholung sollte ein Ansprechpartner vor Ort sein, der das Material übergibt und auch die Abholung entsprechend gegenzeichnet.
B47: Die Mindestabholmengen Abholung betragen:
B48: je Gebindegröße | E48: Stück | G48: Mit Ihrer Unterschrift bestätigen Sie die Einhaltung der Interzero Übernahmekriterien.
B49: < 10 Liter | E49: 40
B50: ≥ 10 Liter bis max. 60 Liter | E50: 20
B51: ≥ 60 Liter | E51: 5
G54: =TODAY() -> 46266
I55: Stempel/Unterschrift
B57: Bei Rückfragen kontaktieren Sie bitte die Interzero Hotline unter: 02203/9147-1366 oder unter dr.stoecker@interzero.de
E58: Rückbestätigung an die Anfallstelle durch Interzero
E61: Der Entsorgungsstatus wurde überprüft!
C63: Interzero praktiziert eine kostenlose Entsorgung im Hol-System!
...

Sheet Abfallsammler
D1: Zuordnung Waschchemie - Abfallsammler "Bag-in-Box"
B5: Artikel Abfallsammler-Zuordnung | I5: UN-Nummer | J5: Abfallsammler
I6: =IF(ISERROR(VLOOKUP(B6,$H$27:$O$795,7,0)),"",VLOOKUP(B6,$H$27:$O$795,7,0)) | J6: =IF(ISERROR(VLOOKUP(B6,$H$27:$P$795,9,0)),"",VLOOKUP(B6,$H$27:$P$795,9,0))
I7: =IF(ISERROR(VLOOKUP(B7,$H$27:$O$795,7,0)),"",VLOOKUP(B7,$H$27:$O$795,7,0)) | J7: =IF(ISERROR(VLOOKUP(B7,$H$27:$P$795,9,0)),"",VLOOKUP(B7,$H$27:$P$795,9,0))
I8: =IF(ISERROR(VLOOKUP(B8,$H$27:$O$795,7,0)),"",VLOOKUP(B8,$H$27:$O$795,7,0)) | J8: =IF(ISERROR(VLOOKUP(B8,$H$27:$P$795,9,0)),"",VLOOKUP(B8,$H$27:$P$795,9,0))
I9: =IF(ISERROR(VLOOKUP(B9,$H$27:$O$795,7,0)),"",VLOOKUP(B9,$H$27:$O$795,7,0)) | J9: =IF(ISERROR(VLOOKUP(B9,$H$27:$P$795,9,0)),"",VLOOKUP(B9,$H$27:$P$795,9,0))
I10: =IF(ISERROR(VLOOKUP(B10,$H$27:$O$795,7,0)),"",VLOOKUP(B10,$H$27:$O$795,7,0)) | J10: =IF(ISERROR(VLOOKUP(B10,$H$27:$P$795,9,0)),"",VLOOKUP(B10,$H$27:$P$795,9,0))
I11: =IF(ISERROR(VLOOKUP(B11,$H$27:$O$795,7,0)),"",VLOOKUP(B11,$H$27:$O$795,7,0)) | J11: =IF(ISERROR(VLOOKUP(B11,$H$27:$P$795,9,0)),"",VLOOKUP(B11,$H$27:$P$795,9,0))
I12: =IF(ISERROR(VLOOKUP(B12,$H$27:$O$795,7,0)),"",VLOOKUP(B12,$H$27:$O$795,7,0)) | J12: =IF(ISERROR(VLOOKUP(B12,$H$27:$P$795,9,0)),"",VLOOKUP(B12,$H$27:$P$795,9,0))
I13: =IF(ISERROR(VLOOKUP(B13,$H$27:$O$795,7,0)),"",VLOOKUP(B13,$H$27:$O$795,7,0)) | J13: =IF(ISERROR(VLOOKUP(B13,$H$27:$P$795,9,0)),"",VLOOKUP(B13,$H$27:$P$795,9,0))
J14: =IF(ISERROR(VLOOKUP(B14,$H$27:$P$795,9,0)),"",VLOOKUP(B14,$H$27:$P$795,9,0))
I15: =IF(ISERROR(VLOOKUP(B15,$H$27:$O$795,7,0)),"",VLOOKUP(B15,$H$27:$O$795,7,0)) | J15: =IF(ISERROR(VLOOKUP(B15,$H$27:$P$795,9,0)),"",VLOOKUP(B15,$H$27:$P$795,9,0))
B17: benötigte Abfallsammler:
B18: =IF(B20="GHS05 mit ADR 8",1,0) -> 0 | C18: =IF(B20="GHS05 mit ADR 8", 2,0) -> 0 | E18: =IF(E20="GHS05",3,0) -> 0 | G18: =IF(G20="GHS07", 4,0) -> 0 | I18: Sie benötigen für Ihre Anlage:
I19: =IF(SUM(B18:G18)=0,"",IF(SUM(B18:G18)<=4,1,IF(OR(SUM(B18:G18)=6,SUM(B18:G18)=7),2,IF(SUM(B18:G18)=10,3,"")))) | J19: unterschiedliche Abfallsammler für den Innenbeutel des "Bag-in-Box"-Systems
B20: =IF(COUNTIF(J6:K15,"GHS05 mit ADR 8")>=1,"GHS05 mit ADR 8","") | E20: =IF(COUNTIF(J6:K15,"GHS05")>=1,"GHS05","") | G20: =IF(COUNTIF(J6:K15,"GHS07")>=1,"GHS07","")
I25: Stammdaten | Q25: Formeln
B26: Produkt | D26: techn. Kürzel | E26: Art.-Nr. | F26: Inhalt | H26: Dropdown | I26: Produkt-klasse | J26: GHS 1 | K26: GHS 2 | L26: GHS 3 | M26: GHS 4 | N26: UN-Nummer | O26: ADR | P26: Abfallsammler | Q26: Anzahl | R26: GHS 1 | S26: GHS 2 | T26: GHS 3 | U26: GHS 4 | V26: ADR
B27: Aktiv Vorreiniger ALPHA | D27: A200 | E27: 662142 | F27: Bag-in-Box, 20 l | H27: =IF(D27="",CONCATENATE(B27,", Art.Nr. ",E27," - ",F27),CONCATENATE(D27," - ",B27,", Art.Nr. ",E27," - ",F27)) -> A200 - Aktiv Vorreiniger ALPHA, Art.Nr. 662142 - Bag-in-Box, 20 l | I27: 1719, 8, II, E | J27: GHS05 | K27: GHS07 | N27: =IF(I27="kein Gefahrgut","./.",LEFT(I27,4)) -> 1719 | O27: 8 | P27: GHS05 mit ADR 8 | Q27: =IF(ISERROR(VLOOKUP(H27,$B$6:$J$15,9,0)),0,VLOOKUP(H27,$B$6:$J$15,9,0)) -> 0 | R27: =IF($Q27<>0,J27,0) -> 0 | S27: =IF($Q27>=1,K27,0) -> 0 | T27: =IF($Q27>=1,L27,0) -> 0 | U27: =IF($Q27>=1,M27,0) -> 0 | V27: =IF($Q27>=1,O27,0) -> 0
B28: Duftschaum ALPHA | D28: A300 | E28: 663242 | F28: Bag-in-Box, 20 l | H28: =IF(D28="",CONCATENATE(B28,", Art.Nr. ",E28," - ",F28),CONCATENATE(D28," - ",B28,", Art.Nr. ",E28," - ",F28)) -> A300 - Duftschaum ALPHA, Art.Nr. 663242 - Bag-in-Box, 20 l | I28: Kein Gefahrgut | J28: GHS05 | N28: =IF(I28="kein Gefahrgut","./.",LEFT(I28,4)) -> ./. | O28: ./. | P28: GHS05 | Q28: =IF(ISERROR(VLOOKUP(H28,$B$6:$J$15,9,0)),0,VLOOKUP(H28,$B$6:$J$15,9,0)) -> 0 | R28: =IF($Q28<>0,J28,0) -> 0 | S28: =IF($Q28>=1,K28,0) -> 0 | T28: =IF($Q28>=1,L28,0) -> 0 | U28: =IF($Q28>=1,M28,0) -> 0 | V28: =IF($Q28>=1,O28,0) -> 0
B29: SB-Schaum ALPHA | D29: A301 | E29: 310642 | F29: Bag-in-Box, 20 l | H29: =IF(D29="",CONCATENATE(B29,", Art.Nr. ",E29," - ",F29),CONCATENATE(D29," - ",B29,", Art.Nr. ",E29," - ",F29)) -> A301 - SB-Schaum ALPHA, Art.Nr. 310642 - Bag-in-Box, 20 l | I29: Kein Gefahrgut | J29: GHS05 | N29: =IF(I29="kein Gefahrgut","./.",LEFT(I29,4)) -> ./. | O29: ./. | P29: GHS05 | Q29: =IF(ISERROR(VLOOKUP(H29,$B$6:$J$15,9,0)),0,VLOOKUP(H29,$B$6:$J$15,9,0)) -> 0 | R29: =IF($Q29<>0,J29,0) -> 0 | S29: =IF($Q29>=1,K29,0) -> 0 | T29: =IF($Q29>=1,L29,0) -> 0 | U29: =IF($Q29>=1,M29,0) -> 0 | V29: =IF($Q29>=1,O29,0) -> 0
B30: Intensiv Shampoo ALPHA | D30: A400 | E30: 660142 | F30: Bag-in-Box, 20 l | H30: =IF(D30="",CONCATENATE(B30,", Art.Nr. ",E30," - ",F30),CONCATENATE(D30," - ",B30,", Art.Nr. ",E30," - ",F30)) -> A400 - Intensiv Shampoo ALPHA, Art.Nr. 660142 - Bag-in-Box, 20 l | I30: Kein Gefahrgut | J30: GHS05 | N30: =IF(I30="kein Gefahrgut","./.",LEFT(I30,4)) -> ./. | O30: ./. | P30: GHS05 | Q30: =IF(ISERROR(VLOOKUP(H30,$B$6:$J$15,9,0)),0,VLOOKUP(H30,$B$6:$J$15,9,0)) -> 0 | R30: =IF($Q30<>0,J30,0) -> 0 | S30: =IF($Q30>=1,K30,0) -> 0 | T30: =IF($Q30>=1,L30,0) -> 0 | U30: =IF($Q30>=1,M30,0) -> 0 | V30: =IF($Q30>=1,O30,0) -> 0
B31: Schaumglanzpolitur ALPHA | D31: A500 | E31: 665342 | F31: Bag-in-Box, 20 l | H31: =IF(D31="",CONCATENATE(B31,", Art.Nr. ",E31," - ",F31),CONCATENATE(D31," - ",B31,", Art.Nr. ",E31," - ",F31)) -> A500 - Schaumglanzpolitur ALPHA, Art.Nr. 665342 - Bag-in-Box, 20 l | I31: Kein Gefahrgut | J31: GHS05 | N31: =IF(I31="kein Gefahrgut","./.",LEFT(I31,4)) -> ./. | O31: ./. | P31: GHS05 | Q31: =IF(ISERROR(VLOOKUP(H31,$B$6:$J$15,9,0)),0,VLOOKUP(H31,$B$6:$J$15,9,0)) -> 0 | R31: =IF($Q31<>0,J31,0) -> 0 | S31: =IF($Q31>=1,K31,0) -> 0 | T31: =IF($Q31>=1,L31,0) -> 0 | U31: =IF($Q31>=1,M31,0) -> 0 | V31: =IF($Q31>=1,O31,0) -> 0
B32: Glanzkonservierer ALPHA | D32: A501 | E32: 665442 | F32: Bag-in-Box, 20 l | H32: =IF(D32="",CONCATENATE(B32,", Art.Nr. ",E32," - ",F32),CONCATENATE(D32," - ",B32,", Art.Nr. ",E32," - ",F32)) -> A501 - Glanzkonservierer ALPHA, Art.Nr. 665442 - Bag-in-Box, 20 l | I32: Kein Gefahrgut | J32: GHS05 | N32: =IF(I32="kein Gefahrgut","./.",LEFT(I32,4)) -> ./. | O32: ./. | P32: GHS05 | Q32: =IF(ISERROR(VLOOKUP(H32,$B$6:$J$15,9,0)),0,VLOOKUP(H32,$B$6:$J$15,9,0)) -> 0 | R32: =IF($Q32<>0,J32,0) -> 0 | S32: =IF($Q32>=1,K32,0) -> 0 | T32: =IF($Q32>=1,L32,0) -> 0 | U32: =IF($Q32>=1,M32,0) -> 0 | V32: =IF($Q32>=1,O32,0) -> 0
B33: Glanztrockner ALPHA | D33: A600 | E33: 670842 | F33: Bag-in-Box, 20 l | H33: =IF(D33="",CONCATENATE(B33,", Art.Nr. ",E33," - ",F33),CONCATENATE(D33," - ",B33,", Art.Nr. ",E33," - ",F33)) -> A600 - Glanztrockner ALPHA, Art.Nr. 670842 - Bag-in-Box, 20 l | I33: Kein Gefahrgut | J33: GHS05 | N33: =IF(I33="kein Gefahrgut","./.",LEFT(I33,4)) -> ./. | O33: ./. | P33: GHS05 | Q33: =IF(ISERROR(VLOOKUP(H33,$B$6:$J$15,9,0)),0,VLOOKUP(H33,$B$6:$J$15,9,0)) -> 0 | R33: =IF($Q33<>0,J33,0) -> 0 | S33: =IF($Q33>=1,K33,0) -> 0 | T33: =IF($Q33>=1,L33,0) -> 0 | U33: =IF($Q33>=1,M33,0) -> 0 | V33: =IF($Q33>=1,O33,0) -> 0
B34: Schaum Basic | D34: B300 | E34: 530142 | F34: Bag-in-Box, 20 l | H34: =IF(D34="",CONCATENATE(B34,", Art.Nr. ",E34," - ",F34),CONCATENATE(D34," - ",B34,", Art.Nr. ",E34," - ",F34)) -> B300 - Schaum Basic, Art.Nr. 530142 - Bag-in-Box, 20 l | I34: Kein Gefahrgut | J34: GHS07 | N34: =IF(I34="kein Gefahrgut","./.",LEFT(I34,4)) -> ./. | O34: ./. | P34: GHS07 | Q34: =IF(ISERROR(VLOOKUP(H34,$B$6:$J$15,9,0)),0,VLOOKUP(H34,$B$6:$J$15,9,0)) -> 0 | R34: =IF($Q34<>0,J34,0) -> 0 | S34: =IF($Q34>=1,K34,0) -> 0 | T34: =IF($Q34>=1,L34,0) -> 0 | U34: =IF($Q34>=1,M34,0) -> 0 | V34: =IF($Q34>=1,O34,0) -> 0
B35: SB-Schaum EVENTUM | D35: EV300 | E35: 525342 | F35: Bag-in-Box, 20 l | H35: =IF(D35="",CONCATENATE(B35,", Art.Nr. ",E35," - ",F35),CONCATENATE(D35," - ",B35,", Art.Nr. ",E35," - ",F35)) -> EV300 - SB-Schaum EVENTUM , Art.Nr. 525342 - Bag-in-Box, 20 l | I35: Kein Gefahrgut | J35: GHS07 | N35: =IF(I35="kein Gefahrgut","./.",LEFT(I35,4)) -> ./. | O35: ./. | P35: GHS07 | Q35: =IF(ISERROR(VLOOKUP(H35,$B$6:$J$15,9,0)),0,VLOOKUP(H35,$B$6:$J$15,9,0)) -> 0 | R35: =IF($Q35<>0,J35,0) -> 0 | S35: =IF($Q35>=1,K35,0) -> 0 | T35: =IF($Q35>=1,L35,0) -> 0 | U35: =IF($Q35>=1,M35,0) -> 0 | V35: =IF($Q35>=1,O35,0) -> 0
B36: Fosgalon TC Multi | D36: FO913 | E36: 541142 | F36: Bag-in-Box, 20 l | H36: =IF(D36="",CONCATENATE(B36,", Art.Nr. ",E36," - ",F36),CONCATENATE(D36," - ",B36,", Art.Nr. ",E36," - ",F36)) -> FO913 - Fosgalon TC Multi, Art.Nr. 541142 - Bag-in-Box, 20 l | I36: 1824 8; II; E | J36: GHS05 | N36: =IF(I36="kein Gefahrgut","./.",LEFT(I36,4)) -> 1824 | O36: 8 | P36: GHS05 mit ADR 8 | Q36: =IF(ISERROR(VLOOKUP(H36,$B$6:$J$15,9,0)),0,VLOOKUP(H36,$B$6:$J$15,9,0)) -> 0 | R36: =IF($Q36<>0,J36,0) -> 0 | S36: =IF($Q36>=1,K36,0) -> 0 | T36: =IF($Q36>=1,L36,0) -> 0 | U36: =IF($Q36>=1,M36,0) -> 0 | V36: =IF($Q36>=1,O36,0) -> 0
B37: Aktiv-Felgenreiniger forte | D37: FT100 | E37: 540042 | F37: Bag-in-Box, 20 l | H37: =IF(D37="",CONCATENATE(B37,", Art.Nr. ",E37," - ",F37),CONCATENATE(D37," - ",B37,", Art.Nr. ",E37," - ",F37)) -> FT100 - Aktiv-Felgenreiniger forte, Art.Nr. 540042 - Bag-in-Box, 20 l | I37: 1824 8; II; E | J37: GHS05 | N37: =IF(I37="kein Gefahrgut","./.",LEFT(I37,4)) -> 1824 | O37: 8 | P37: GHS05 mit ADR 8 | Q37: =IF(ISERROR(VLOOKUP(H37,$B$6:$J$15,9,0)),0,VLOOKUP(H37,$B$6:$J$15,9,0)) -> 0 | R37: =IF($Q37<>0,J37,0) -> 0 | S37: =IF($Q37>=1,K37,0) -> 0 | T37: =IF($Q37>=1,L37,0) -> 0 | U37: =IF($Q37>=1,M37,0) -> 0 | V37: =IF($Q37>=1,O37,0) -> 0
B38: Aktiv-Vorreiniger forte | D38: FT200 | E38: 656242 | F38: Bag-in-Box, 20 l | H38: =IF(D38="",CONCATENATE(B38,", Art.Nr. ",E38," - ",F38),CONCATENATE(D38," - ",B38,", Art.Nr. ",E38," - ",F38)) -> FT200 - Aktiv-Vorreiniger forte, Art.Nr. 656242 - Bag-in-Box, 20 l | I38: 1719, 8, II, E | J38: GHS05 | N38: =IF(I38="kein Gefahrgut","./.",LEFT(I38,4)) -> 1719 | O38: 8 | P38: GHS05 mit ADR 8 | Q38: =IF(ISERROR(VLOOKUP(H38,$B$6:$J$15,9,0)),0,VLOOKUP(H38,$B$6:$J$15,9,0)) -> 0 | R38: =IF($Q38<>0,J38,0) -> 0 | S38: =IF($Q38>=1,K38,0) -> 0 | T38: =IF($Q38>=1,L38,0) -> 0 | U38: =IF($Q38>=1,M38,0) -> 0 | V38: =IF($Q38>=1,O38,0) -> 0
B39: AcrylProtect forte | D39: FT500 | E39: 656742 | F39: Bag-in-Box, 20 l | H39: =IF(D39="",CONCATENATE(B39,", Art.Nr. ",E39," - ",F39),CONCATENATE(D39," - ",B39,", Art.Nr. ",E39," - ",F39)) -> FT500 - AcrylProtect forte, Art.Nr. 656742 - Bag-in-Box, 20 l | I39: Kein Gefahrgut | J39: GHS05 | N39: =IF(I39="kein Gefahrgut","./.",LEFT(I39,4)) -> ./. | O39: ./. | P39: GHS05 | Q39: =IF(ISERROR(VLOOKUP(H39,$B$6:$J$15,9,0)),0,VLOOKUP(H39,$B$6:$J$15,9,0)) -> 0 | R39: =IF($Q39<>0,J39,0) -> 0 | S39: =IF($Q39>=1,K39,0) -> 0 | T39: =IF($Q39>=1,L39,0) -> 0 | U39: =IF($Q39>=1,M39,0) -> 0 | V39: =IF($Q39>=1,O39,0) -> 0
B40: AcrylKonservierer „Protect & Dry“ | D40: FT504 | E40: 655942 | F40: Bag-in-Box, 20 l | H40: =IF(D40="",CONCATENATE(B40,", Art.Nr. ",E40," - ",F40),CONCATENATE(D40," - ",B40,", Art.Nr. ",E40," - ",F40)) -> FT504 - AcrylKonservierer „Protect & Dry“, Art.Nr. 655942 - Bag-in-Box, 20 l | I40: Kein Gefahrgut | J40: GHS05 | N40: =IF(I40="kein Gefahrgut","./.",LEFT(I40,4)) -> ./. | O40: ./. | P40: GHS05 | Q40: =IF(ISERROR(VLOOKUP(H40,$B$6:$J$15,9,0)),0,VLOOKUP(H40,$B$6:$J$15,9,0)) -> 0 | R40: =IF($Q40<>0,J40,0) -> 0 | S40: =IF($Q40>=1,K40,0) -> 0 | T40: =IF($Q40>=1,L40,0) -> 0 | U40: =IF($Q40>=1,M40,0) -> 0 | V40: =IF($Q40>=1,O40,0) -> 0
B41: Neutral-Shampoo Plus | D41: P401 | E41: 650142 | F41: Bag-in-Box, 20 l | H41: =IF(D41="",CONCATENATE(B41,", Art.Nr. ",E41," - ",F41),CONCATENATE(D41," - ",B41,", Art.Nr. ",E41," - ",F41)) -> P401 - Neutral-Shampoo Plus, Art.Nr. 650142 - Bag-in-Box, 20 l | I41: Kein Gefahrgut | J41: GHS05 | N41: =IF(I41="kein Gefahrgut","./.",LEFT(I41,4)) -> ./. | O41: ./. | P41: GHS05 | Q41: =IF(ISERROR(VLOOKUP(H41,$B$6:$J$15,9,0)),0,VLOOKUP(H41,$B$6:$J$15,9,0)) -> 0 | R41: =IF($Q41<>0,J41,0) -> 0 | S41: =IF($Q41>=1,K41,0) -> 0 | T41: =IF($Q41>=1,L41,0) -> 0 | U41: =IF($Q41>=1,M41,0) -> 0 | V41: =IF($Q41>=1,O41,0) -> 0
B42: Glanztrockner Perlution | D42: PL602 | E42: 665142 | F42: Bag-in-Box, 20 l | H42: =IF(D42="",CONCATENATE(B42,", Art.Nr. ",E42," - ",F42),CONCATENATE(D42," - ",B42,", Art.Nr. ",E42," - ",F42)) -> PL602 - Glanztrockner Perlution, Art.Nr. 665142 - Bag-in-Box, 20 l | I42: Kein Gefahrgut | J42: GHS05 | N42: =IF(I42="kein Gefahrgut","./.",LEFT(I42,4)) -> ./. | O42: ./. | P42: GHS05 | Q42: =IF(ISERROR(VLOOKUP(H42,$B$6:$J$15,9,0)),0,VLOOKUP(H42,$B$6:$J$15,9,0)) -> 0 | R42: =IF($Q42<>0,J42,0) -> 0 | S42: =IF($Q42>=1,K42,0) -> 0 | T42: =IF($Q42>=1,L42,0) -> 0 | U42: =IF($Q42>=1,M42,0) -> 0 | V42: =IF($Q42>=1,O42,0) -> 0
B43: Duftschaum PowerPlus-Naranja | D43: PP300 | E43: 651742 | F43: Bag-in-Box, 20 l | H43: =IF(D43="",CONCATENATE(B43,", Art.Nr. ",E43," - ",F43),CONCATENATE(D43," - ",B43,", Art.Nr. ",E43," - ",F43)) -> PP300 - Duftschaum PowerPlus-Naranja, Art.Nr. 651742 - Bag-in-Box, 20 l | I43: Kein Gefahrgut | J43: GHS05 | N43: =IF(I43="kein Gefahrgut","./.",LEFT(I43,4)) -> ./. | O43: ./. | P43: GHS05 | Q43: =IF(ISERROR(VLOOKUP(H43,$B$6:$J$15,9,0)),0,VLOOKUP(H43,$B$6:$J$15,9,0)) -> 0 | R43: =IF($Q43<>0,J43,0) -> 0 | S43: =IF($Q43>=1,K43,0) -> 0 | T43: =IF($Q43>=1,L43,0) -> 0 | U43: =IF($Q43>=1,M43,0) -> 0 | V43: =IF($Q43>=1,O43,0) -> 0
B44: Duftschaum Power Plus - Duftnote „Magnolia“ | D44: PP301 | E44: 654442 | F44: Bag-in-Box, 20 l | H44: =IF(D44="",CONCATENATE(B44,", Art.Nr. ",E44," - ",F44),CONCATENATE(D44," - ",B44,", Art.Nr. ",E44," - ",F44)) -> PP301 - Duftschaum Power Plus - Duftnote „Magnolia“ , Art.Nr. 654442 - Bag-in-Box, 20 l | I44: Kein Gefahrgut | J44: GHS05 | N44: =IF(I44="kein Gefahrgut","./.",LEFT(I44,4)) -> ./. | O44: ./. | P44: GHS05 | Q44: =IF(ISERROR(VLOOKUP(H44,$B$6:$J$15,9,0)),0,VLOOKUP(H44,$B$6:$J$15,9,0)) -> 0 | R44: =IF($Q44<>0,J44,0) -> 0 | S44: =IF($Q44>=1,K44,0) -> 0 | T44: =IF($Q44>=1,L44,0) -> 0 | U44: =IF($Q44>=1,M44,0) -> 0 | V44: =IF($Q44>=1,O44,0) -> 0
B45: Duftschaum Power Plus - Duftnote „Fresh & fruity“ | D45: PP302 | E45: 651542 | F45: Bag-in-Box, 20 l | H45: =IF(D45="",CONCATENATE(B45,", Art.Nr. ",E45," - ",F45),CONCATENATE(D45," - ",B45,", Art.Nr. ",E45," - ",F45)) -> PP302 - Duftschaum Power Plus - Duftnote „Fresh & fruity“ , Art.Nr. 651542 - Bag-in-Box, 20 l | I45: Kein Gefahrgut | J45: GHS05 | N45: =IF(I45="kein Gefahrgut","./.",LEFT(I45,4)) -> ./. | O45: ./. | P45: GHS05 | Q45: =IF(ISERROR(VLOOKUP(H45,$B$6:$J$15,9,0)),0,VLOOKUP(H45,$B$6:$J$15,9,0)) -> 0 | R45: =IF($Q45<>0,J45,0) -> 0 | S45: =IF($Q45>=1,K45,0) -> 0 | T45: =IF($Q45>=1,L45,0) -> 0 | U45: =IF($Q45>=1,M45,0) -> 0 | V45: =IF($Q45>=1,O45,0) -> 0 | AH45: Zeile | AI45: GHS
B46: Duftschaum Power Plus - Duftnote „Fühlingsduft“ | D46: PP304 | E46: 652342 | F46: Bag-in-Box, 20 l | H46: =IF(D46="",CONCATENATE(B46,", Art.Nr. ",E46," - ",F46),CONCATENATE(D46," - ",B46,", Art.Nr. ",E46," - ",F46)) -> PP304 - Duftschaum Power Plus - Duftnote „Fühlingsduft“ , Art.Nr. 652342 - Bag-in-Box, 20 l | I46: Kein Gefahrgut | J46: GHS05 | N46: =IF(I46="kein Gefahrgut","./.",LEFT(I46,4)) -> ./. | O46: ./. | P46: GHS05 | Q46: =IF(ISERROR(VLOOKUP(H46,$B$6:$J$15,9,0)),0,VLOOKUP(H46,$B$6:$J$15,9,0)) -> 0 | R46: =IF($Q46<>0,J46,0) -> 0 | S46: =IF($Q46>=1,K46,0) -> 0 | T46: =IF($Q46>=1,L46,0) -> 0 | U46: =IF($Q46>=1,M46,0) -> 0 | V46: =IF($Q46>=1,O46,0) -> 0 | AH46: 46 | AI46: leer
B47: Duftschaum Power Plus - Duftnote „Winterduft“ | D47: PP305 | E47: 650242 | F47: Bag-in-Box, 20 l | H47: =IF(D47="",CONCATENATE(B47,", Art.Nr. ",E47," - ",F47),CONCATENATE(D47," - ",B47,", Art.Nr. ",E47," - ",F47)) -> PP305 - Duftschaum Power Plus - Duftnote „Winterduft“ , Art.Nr. 650242 - Bag-in-Box, 20 l | I47: Kein Gefahrgut | J47: GHS05 | N47: =IF(I47="kein Gefahrgut","./.",LEFT(I47,4)) -> ./. | O47: ./. | P47: GHS05 | Q47: =IF(ISERROR(VLOOKUP(H47,$B$6:$J$15,9,0)),0,VLOOKUP(H47,$B$6:$J$15,9,0)) -> 0 | R47: =IF($Q47<>0,J47,0) -> 0 | S47: =IF($Q47>=1,K47,0) -> 0 | T47: =IF($Q47>=1,L47,0) -> 0 | U47: =IF($Q47>=1,M47,0) -> 0 | V47: =IF($Q47>=1,O47,0) -> 0 | AH47: 47 | AI47: 1
B48: Vorreiniger Red Berry | D48: SP203 | E48: 666942 | F48: Bag-in-Box, 20 l | H48: =IF(D48="",CONCATENATE(B48,", Art.Nr. ",E48," - ",F48),CONCATENATE(D48," - ",B48,", Art.Nr. ",E48," - ",F48)) -> SP203 - Vorreiniger Red Berry, Art.Nr. 666942 - Bag-in-Box, 20 l | I48: 3267 8;II; E | J48: GHS05 | N48: =IF(I48="kein Gefahrgut","./.",LEFT(I48,4)) -> 3267 | O48: 8 | P48: GHS05 mit ADR 8 | Q48: =IF(ISERROR(VLOOKUP(H48,$B$6:$J$15,9,0)),0,VLOOKUP(H48,$B$6:$J$15,9,0)) -> 0 | R48: =IF($Q48<>0,J48,0) -> 0 | S48: =IF($Q48>=1,K48,0) -> 0 | T48: =IF($Q48>=1,L48,0) -> 0 | U48: =IF($Q48>=1,M48,0) -> 0 | V48: =IF($Q48>=1,O48,0) -> 0 | AH48: 48 | AI48: 2
...
